BEGIN:VCALENDAR
VERSION:2.0
PRODID:-//wp-events-plugin.com//7.2.3.1//EN
TZID:America/Los_Angeles
X-WR-TIMEZONE:America/Los_Angeles
BEGIN:VEVENT
UID:3001950@anandaportland.org
DTSTART;TZID=America/Los_Angeles:20250228T103000
DTEND;TZID=America/Los_Angeles:20250228T120000
DTSTAMP:20250227T223442Z
URL:https://anandaportland.org/events/16559372-2025-02-28/
SUMMARY:CANCELLED: Yoga for Energy! with Melissa
DESCRIPTION:&nbsp\;\n\nSorry - today's class is cancelled. Join us next wee
 k!\n\n&nbsp\;\n\n" Energy and joy flood my body cells. Joy descends to me!
 "\nUplift into that higher state of energy to enjoy the inner abundance an
 d prosperity that we have available to us at all times.\nThis is a beginne
 rs class with a focus on awakening our entire being. The poses will highli
 ght attuning to that wellspring of divine energy we are connected to at al
 l times.\nMoving through our session\, we’ll transcend the barriers\, ex
 panding into greater inner freedom and deeper awareness of our higher selv
 es.  After awakening energy\, we will direct the energy flow inward and u
 p the spine with a brief meditation following the asanas.\nWe are made of 
 energy! Join us to feel energized for the weekend.\nAnanda Yoga® is gentl
 e and our instructors encourage and support appropriate modifications so a
 ll bodies can participate safely. Come early to class and speak with the i
 nstructor about your needs. \n$15.00 per class\n$10.00 per class:  Senio
 r discount for 60 years old +\n\nDrop-ins welcome. Preregister and prepaym
 ent optional.\n\n*********************************************************
 *********\n\nPurchase a 10 class package and save!\n(packages must be purc
 hased on site)\n\n$15 per drop-in / 10 class package $135\, get 1 class fr
 ee/$13.50 per class) good for 1 year.\n\n$10 Senior rate (10 class package
  $90\, get 1 class free/ $9.00 per class) good for 1 year.\n\n\n\n&nbsp\;\
 n\nMelissa Heart has been teaching Ananda Yoga since 2012 as a certified A
 nanda Yoga instructor. She’s been with Ananda Portland since 2007 and ha
 s served in many capacities at the temple. Currently she serves as a membe
 r of the ministry team\, manager of the temple and coordinator for Educati
 on for Life Outreach Programs.\n\n****************************************
 ***********************************\n\nReview of Ananda Yoga – Beaverton
  OR.\nFrom: Rick Cady - Tualatin\, OR. \n\n"As a current student of Ayurve
 da\, I had been looking to complement my studies with a Yoga tradition tha
 t would support the ideals espoused by the ancients related to the Yoga sc
 iences. Given that the Western model of Yoga tends toward only a focus on 
 the physical aspects of the practice\, I was happy to find a more traditio
 nal practice of Hatha Yoga through the Ananda Temple here in Beaverton\, O
 R. Teacher Melissa Heart brings this practice to life with her unique and 
 effective teaching style with an emphasis on being conscious and still as 
 we move into poses\, hold the pose\, and come out of the pose. This practi
 ce emphasizes utilizing the poses to relax the body and be aware of our st
 ate of mind to ultimately prepare for meditation. Melissa is a gem that I 
 am grateful to have met\, as you can feel her love for the practice and de
 sire to share it with others. On a physical level\, I had been diagnosed m
 any years ago with a Lumbar spine defect that had given me significant pai
 n and limitations for several decades\, and this practice has made me virt
 ually pain free in about 3 months. A true miracle. I am forever grateful a
 nd will be a lifetime supporter of Melissa and Ananda Yoga."
ATTACH;FMTTYPE=image/jpeg:https://anandaportland.org/wp-content/uploads/20
 24/10/yoga-group-beach-scaled.jpg
CATEGORIES:Classes,Yoga
LOCATION:Ananda Portland Temple\, 4855 SW Watson Ave\, Beaverton\, OR\, 970
 05\, United States
X-APPLE-STRUCTURED-LOCATION;VALUE=URI;X-ADDRESS=4855 SW Watson Ave\, Beaver
 ton\, OR\, 97005\, United States;X-APPLE-RADIUS=100;X-TITLE=Ananda Portlan
 d Temple:geo:0,0
END:VEVENT
BEGIN:VTIMEZONE
TZID:America/Los_Angeles
X-LIC-LOCATION:America/Los_Angeles
BEGIN:STANDARD
DTSTART:20241103T010000
TZOFFSETFROM:-0700
TZOFFSETTO:-0800
TZNAME:PST
END:STANDARD
END:VTIMEZONE
END:VCALENDAR