BEGIN:VCALENDAR
VERSION:2.0
PRODID:-//wp-events-plugin.com//7.2.3.1//EN
TZID:America/Los_Angeles
X-WR-TIMEZONE:America/Los_Angeles
BEGIN:VEVENT
UID:3001219@anandaportland.org
DTSTART;TZID=America/Los_Angeles;VALUE=DATE:20240517
DTEND;TZID=America/Los_Angeles;VALUE=DATE:20240520
DTSTAMP:20240316T001055Z
URL:https://anandaportland.org/events/ananda-portland-mens-retreat/
SUMMARY:Ananda Portland Men's Retreat
DESCRIPTION:An inspirational\, relaxing and fun Men's Retreat led by Badri 
 and featuring chanting\, meditation\, time in nature\, meals\, games and u
 plifting time with friends.\n\n
END:VEVENT
BEGIN:VTIMEZONE
TZID:America/Los_Angeles
X-LIC-LOCATION:America/Los_Angeles
BEGIN:DAYLIGHT
DTSTART:20240310T030000
TZOFFSETFROM:-0800
TZOFFSETTO:-0700
TZNAME:PDT
END:DAYLIGHT
END:VTIMEZONE
END:VCALENDAR