BEGIN:VCALENDAR
VERSION:2.0
PRODID:-//wp-events-plugin.com//7.2.3.1//EN
TZID:America/Los_Angeles
X-WR-TIMEZONE:America/Los_Angeles
BEGIN:VEVENT
UID:3001534@anandaportland.org
DTSTART;TZID=America/Los_Angeles:20250316T120000
DTEND;TZID=America/Los_Angeles:20250316T130000
DTSTAMP:20250305T202724Z
URL:https://anandaportland.org/events/ananda-worldwide-outreach-satsang/
SUMMARY:Ananda Global Outreach Satsang
DESCRIPTION:\n🌍 Ananda’s Global Outreach: A Special Fundraising Event\
 nJoin us for an inspiring Satsang as the AnandaFundraising Team visits our
  community to share how Ananda’s light is expanding around the world!\nA
 nanda’s mission continues to touch hearts globally\, spreading Yogananda
 ’s teachings of inner peace\, joy\, and divine connection. This special 
 gathering will highlight:\n✨ The latest projects and initiatives from An
 anda worldwide✨ How our community is making a difference✨ Ways we can 
 support this sacred work together\nThis is an opportunity to feel deeply c
 onnected to Ananda’s greater mission and discover how we can each play a
  part in its growth.\nLet’s come together in support\, inspiration\, and
  unity! Light refreshments will be served.\nSpend more time with our visit
 ors by coming to the LJC at the Ananda Community for breakfast on Saturday
  9:30am. \n\n&nbsp\;
ATTACH;FMTTYPE=image/jpeg:https://anandaportland.org/wp-content/uploads/20
 22/11/JoySymbolLogoBlue_2in.png
CATEGORIES:fundraiser,Guest Speakers,Service &amp; Satsangs
LOCATION:Ananda Temple in Beaverton\, 4855 SW Watson Avenue\, Beaverton\, O
 regon\, 97005\, United States
X-APPLE-STRUCTURED-LOCATION;VALUE=URI;X-ADDRESS=4855 SW Watson Avenue\, Bea
 verton\, Oregon\, 97005\, United States;X-APPLE-RADIUS=100;X-TITLE=Ananda 
 Temple in Beaverton:geo:0,0
END:VEVENT
BEGIN:VTIMEZONE
TZID:America/Los_Angeles
X-LIC-LOCATION:America/Los_Angeles
BEGIN:DAYLIGHT
DTSTART:20250309T030000
TZOFFSETFROM:-0800
TZOFFSETTO:-0700
TZNAME:PDT
END:DAYLIGHT
END:VTIMEZONE
END:VCALENDAR