BEGIN:VCALENDAR
VERSION:2.0
PRODID:-//wp-events-plugin.com//7.2.3.1//EN
TZID:America/Los_Angeles
X-WR-TIMEZONE:America/Los_Angeles
BEGIN:VEVENT
UID:3000977@anandaportland.org
DTSTART;TZID=America/Los_Angeles:20240310T113000
DTEND;TZID=America/Los_Angeles:20240310T123000
DTSTAMP:20231105T035632Z
URL:https://anandaportland.org/events/annual-appeal-satsang-after-service/
SUMMARY:Annual Appeal Satsang after service
DESCRIPTION:Following the Sunday Service\, we will have a satsang in the sa
 nctuary to present news of Ananda Worldwide. This is our annual fund raisi
 ng appeal to support the work of Ananda that extends across the world.\n\n
 Join us for this gathering with our friends from Ananda Village and learn 
 how your support is helping truth seekers on every continent.\n\nWe will m
 eet shortly after service and snacks and will be finished within the hour.
 \n\nAll are welcome\, without obligation.\n\n&nbsp\;
ATTACH;FMTTYPE=image/jpeg:https://anandaportland.org/wp-content/uploads/20
 19/04/joysymbollogoblue.png
CATEGORIES:Service &amp; Satsangs
LOCATION:Ananda Temple and Teaching Center\, 4855 SW Watson Ave\, Beaverton
 \, OR\, 97005\, United States
X-APPLE-STRUCTURED-LOCATION;VALUE=URI;X-ADDRESS=4855 SW Watson Ave\, Beaver
 ton\, OR\, 97005\, United States;X-APPLE-RADIUS=100;X-TITLE=Ananda Temple 
 and Teaching Center:geo:0,0
END:VEVENT
BEGIN:VTIMEZONE
TZID:America/Los_Angeles
X-LIC-LOCATION:America/Los_Angeles
BEGIN:DAYLIGHT
DTSTART:20240310T030000
TZOFFSETFROM:-0800
TZOFFSETTO:-0700
TZNAME:PDT
END:DAYLIGHT
END:VTIMEZONE
END:VCALENDAR