BEGIN:VCALENDAR
VERSION:2.0
PRODID:-//wp-events-plugin.com//7.2.3.1//EN
TZID:America/Los_Angeles
X-WR-TIMEZONE:America/Los_Angeles
BEGIN:VEVENT
UID:4002536@anandaportland.org
DTSTART;TZID=America/Los_Angeles:20250228T190000
DTEND;TZID=America/Los_Angeles:20250228T203000
DTSTAMP:20250213T214943Z
URL:https://anandaportland.org/events/art-science-of-kriya-yoga-supreme-to
 ol-for-changing-consciousness/
SUMMARY:Art & Science of Kriya Yoga: Supreme Tool for Changing Consciousnes
 s
DESCRIPTION:Nayaswami Narayan will be visiting Ananda Portland for the week
 end and we look forward to having him share during this satsang.\n\nNaraya
 n is a minister\, lightbearer\, and kriyacharya who has a long history ser
 ving Ananda. He and his wife\, Dharmadevi\, currently manage Crystal Clari
 ty\, Ananda's publishing house. Tonight will be a fun and interactive even
 ing of chanting\, discussion and Q &amp\; A\; open to all.\n\nFree   All
  are welcome\n\nNote:  The location will be the Ananda Community Living J
 oy Center Chapel
ATTACH;FMTTYPE=image/jpeg:https://anandaportland.org/wp-content/uploads/20
 25/02/Narayan.jpg
END:VEVENT
BEGIN:VTIMEZONE
TZID:America/Los_Angeles
X-LIC-LOCATION:America/Los_Angeles
BEGIN:STANDARD
DTSTART:20241103T010000
TZOFFSETFROM:-0700
TZOFFSETTO:-0800
TZNAME:PST
END:STANDARD
END:VTIMEZONE
END:VCALENDAR