BEGIN:VCALENDAR
VERSION:2.0
PRODID:-//wp-events-plugin.com//7.2.3.1//EN
TZID:America/Los_Angeles
X-WR-TIMEZONE:America/Los_Angeles
BEGIN:VEVENT
UID:3002484@anandaportland.org
DTSTART;TZID=America/Los_Angeles:20250726T190000
DTEND;TZID=America/Los_Angeles:20250726T203000
DTSTAMP:20250605T184510Z
URL:https://anandaportland.org/events/babaji-dedication-at-the-community/
SUMMARY:Babaji Day  Community Celebration 
DESCRIPTION:\n\nBabaji Day  Community Celebration \n\nJuly 26\, 2025 | 7-
 8:30pm | @ the Ananda Portland Community\n\nPrayer\, Chanting\, Meditation
 \, Inspiration\, Fire Ceremony\, Community Blessing\n\nThis special evenin
 g will invoke the supernal blessings of Mahavatar Babaji to celebrate our 
 30-year anniversary of the Ananda Portland community\, re-dedicate our liv
 es and our community to God and Gurus\, and launch the Yogananda Community
  Fund to secure the long-term ownership of our spiritual community.\n\n&nb
 sp\;\n\n&nbsp\;\n\n&nbsp\;
ATTACH;FMTTYPE=image/jpeg:https://anandaportland.org/wp-content/uploads/20
 25/02/Screenshot-2025-06-03-154806.png
END:VEVENT
BEGIN:VTIMEZONE
TZID:America/Los_Angeles
X-LIC-LOCATION:America/Los_Angeles
BEGIN:DAYLIGHT
DTSTART:20250309T030000
TZOFFSETFROM:-0800
TZOFFSETTO:-0700
TZNAME:PDT
END:DAYLIGHT
END:VTIMEZONE
END:VCALENDAR