BEGIN:VCALENDAR
VERSION:2.0
PRODID:-//wp-events-plugin.com//7.2.3.1//EN
TZID:America/Los_Angeles
X-WR-TIMEZONE:America/Los_Angeles
BEGIN:VEVENT
UID:3001245@anandaportland.org
DTSTART;TZID=America/Los_Angeles:20240329T183000
DTEND;TZID=America/Los_Angeles:20240329T200000
DTSTAMP:20240322T080752Z
URL:https://anandaportland.org/events/christ-lives-an-oratorio-concert-vie
 wing/
SUMMARY:Christ Lives! An Oratorio Concert Viewing
DESCRIPTION:Join us at the Portland temple and view the annual performance 
 of the Oratorio by the musicians and singers at Ananda Village.\n\nWe will
  begin with meditation at 6:30 followed by the concert.\n\nFree
ATTACH;FMTTYPE=image/jpeg:https://anandaportland.org/wp-content/uploads/20
 24/03/jesus_resurrection_russian_art.jpg.webp
CATEGORIES:Devotional Event,music
LOCATION:Ananda Temple and Teaching Center\, 4855 SW Watson Ave\, Beaverton
 \, OR\, 97005\, United States
X-APPLE-STRUCTURED-LOCATION;VALUE=URI;X-ADDRESS=4855 SW Watson Ave\, Beaver
 ton\, OR\, 97005\, United States;X-APPLE-RADIUS=100;X-TITLE=Ananda Temple 
 and Teaching Center:geo:0,0
END:VEVENT
BEGIN:VTIMEZONE
TZID:America/Los_Angeles
X-LIC-LOCATION:America/Los_Angeles
BEGIN:DAYLIGHT
DTSTART:20240310T030000
TZOFFSETFROM:-0800
TZOFFSETTO:-0700
TZNAME:PDT
END:DAYLIGHT
END:VTIMEZONE
END:VCALENDAR