BEGIN:VCALENDAR
VERSION:2.0
PRODID:-//wp-events-plugin.com//7.2.3.1//EN
TZID:America/Los_Angeles
X-WR-TIMEZONE:America/Los_Angeles
BEGIN:VEVENT
UID:4002776@anandaportland.org
DTSTART;TZID=America/Los_Angeles:20261225T070000
DTEND;TZID=America/Los_Angeles:20261225T090000
DTSTAMP:20260124T003120Z
URL:https://anandaportland.org/events/christmas-day-meditation/
SUMMARY:Christmas Day Meditation
DESCRIPTION:Meditate in the sacred space of the Temple sanctuary on this ho
 ly day.\n\nJoin Lorna and others for all or part of this morning's meditat
 ion and go deep into the presence of Christ as the blessings flow through 
 all creation.\n\nRecorded chants or Christmas music may be played\, but mo
 st of the time will be silent meditation.\n\nNo registration necessary.\n\
 n&nbsp\;
ATTACH;FMTTYPE=image/jpeg:https://anandaportland.org/wp-content/uploads/20
 22/12/christmas-g8869199cd_1920.jpg
LOCATION:Ananda Portland Temple\, 4855 SW Watson Ave\, Beaverton\, OR\, 970
 05\, United States
X-APPLE-STRUCTURED-LOCATION;VALUE=URI;X-ADDRESS=4855 SW Watson Ave\, Beaver
 ton\, OR\, 97005\, United States;X-APPLE-RADIUS=100;X-TITLE=Ananda Portlan
 d Temple:geo:0,0
END:VEVENT
BEGIN:VTIMEZONE
TZID:America/Los_Angeles
X-LIC-LOCATION:America/Los_Angeles
BEGIN:STANDARD
DTSTART:20261101T010000
TZOFFSETFROM:-0700
TZOFFSETTO:-0800
TZNAME:PST
END:STANDARD
END:VTIMEZONE
END:VCALENDAR