BEGIN:VCALENDAR
VERSION:2.0
PRODID:-//wp-events-plugin.com//7.2.3.1//EN
TZID:America/Los_Angeles
X-WR-TIMEZONE:America/Los_Angeles
BEGIN:VEVENT
UID:3000864@anandaportland.org
DTSTART;TZID=America/Los_Angeles:20231224T100000
DTEND;TZID=America/Los_Angeles:20231224T113000
DTSTAMP:20231020T043455Z
URL:https://anandaportland.org/events/christmas-eve-service/
SUMMARY:Christmas Eve Service
DESCRIPTION:Join us for a special Sunday morning service on Christmas Eve. 
 We will share music and chanting with meditation\, scripture readings and 
 the joy of celebrating the coming of Christ.\n\n&nbsp\;
ATTACH;FMTTYPE=image/jpeg:https://anandaportland.org/wp-content/uploads/20
 21/12/christmas-g8869199cd_1920-1.jpg
CATEGORIES:Christmas,Service &amp; Satsangs
END:VEVENT
BEGIN:VTIMEZONE
TZID:America/Los_Angeles
X-LIC-LOCATION:America/Los_Angeles
BEGIN:STANDARD
DTSTART:20231105T010000
TZOFFSETFROM:-0700
TZOFFSETTO:-0800
TZNAME:PST
END:STANDARD
END:VTIMEZONE
END:VCALENDAR