BEGIN:VCALENDAR
VERSION:2.0
PRODID:-//wp-events-plugin.com//7.2.3.1//EN
TZID:America/Los_Angeles
X-WR-TIMEZONE:America/Los_Angeles
BEGIN:VEVENT
UID:3002169@anandaportland.org
DTSTART;TZID=America/Los_Angeles:20241218T190000
DTEND;TZID=America/Los_Angeles:20241218T203000
DTSTAMP:20241121T190128Z
URL:https://anandaportland.org/events/christmas-harp-magic/
SUMMARY:Christmas Harp Magic
DESCRIPTION:\n\nJoin us for an evening of Christmas music that will soothe 
 your heart and make your soul sing.  Take time out of the busy holiday se
 ason for an inward experience of harp music and meditation.  Soothing har
 p instrumentals with sing-along Christmas carols and devotional chants wil
 l be interspersed with periods of meditation.\n\nLive harp music provided 
 by Janice Fairlee\, devotee musician.\n\nWe welcome you to experience this
  FREE musical evening with us. Donations are appreciated.\n\n&nbsp\;
ATTACH;FMTTYPE=image/jpeg:https://anandaportland.org/wp-content/uploads/20
 24/11/Christmas-Harp-Magic.jpg
CATEGORIES:Christmas,Devotional Event,Kirtan/Chanting,Meditation,music
LOCATION:Ananda Portland Temple\, 4855 SW Watson Ave\, Beaverton\, OR\, 970
 05\, United States
X-APPLE-STRUCTURED-LOCATION;VALUE=URI;X-ADDRESS=4855 SW Watson Ave\, Beaver
 ton\, OR\, 97005\, United States;X-APPLE-RADIUS=100;X-TITLE=Ananda Portlan
 d Temple:geo:0,0
END:VEVENT
BEGIN:VTIMEZONE
TZID:America/Los_Angeles
X-LIC-LOCATION:America/Los_Angeles
BEGIN:STANDARD
DTSTART:20241103T010000
TZOFFSETFROM:-0700
TZOFFSETTO:-0800
TZNAME:PST
END:STANDARD
END:VTIMEZONE
END:VCALENDAR