BEGIN:VCALENDAR
VERSION:2.0
PRODID:-//wp-events-plugin.com//7.2.3.1//EN
TZID:America/Los_Angeles
X-WR-TIMEZONE:America/Los_Angeles
BEGIN:VEVENT
UID:4002750@anandaportland.org
DTSTART;TZID=America/Los_Angeles:20250802T100000
DTEND;TZID=America/Los_Angeles:20250802T160000
DTSTAMP:20250730T215225Z
URL:https://anandaportland.org/events/clothing-swap-ice-cream-social/
SUMMARY:Clothing Swap/ Ice Cream Social
DESCRIPTION: \nIt’s time to start preparing for our large\, upscale Churc
 h Community Yard Sale at the Temple on September 5th!\nPlease note: no clo
 thing or shoes will be sold at the yard sale.\nTo help everyone clear out 
 these items\, we’re hosting a Community Clothing and Shoe Swap at the An
 anda Community\, followed by an Ice Cream Social!\nBring your clothes and 
 shoes to the tables outside the community room (LJC) on Friday after 2 PM 
 or Saturday\, 10 - 4 PM. \nThis is a free event where you can leave items
  you no longer need and take anything you find that you like.\n🍦 Stay f
 or ice cream from 3:00–4:00 PM!\nLet’s share\, declutter\, and enjoy s
 ome sweet community time as we get ready for a successful yard sale!
CATEGORIES:Community,Family Friendly
LOCATION:Ananda Community\, 7020 SW Vermont Court\, Portland\, Oregon\, 972
 23\, United States
X-APPLE-STRUCTURED-LOCATION;VALUE=URI;X-ADDRESS=7020 SW Vermont Court\, Por
 tland\, Oregon\, 97223\, United States;X-APPLE-RADIUS=100;X-TITLE=Ananda C
 ommunity:geo:0,0
END:VEVENT
BEGIN:VTIMEZONE
TZID:America/Los_Angeles
X-LIC-LOCATION:America/Los_Angeles
BEGIN:DAYLIGHT
DTSTART:20250309T030000
TZOFFSETFROM:-0800
TZOFFSETTO:-0700
TZNAME:PDT
END:DAYLIGHT
END:VTIMEZONE
END:VCALENDAR