BEGIN:VCALENDAR
VERSION:2.0
PRODID:-//wp-events-plugin.com//7.2.3.1//EN
TZID:America/Los_Angeles
X-WR-TIMEZONE:America/Los_Angeles
BEGIN:VEVENT
UID:3001243@anandaportland.org
DTSTART;TZID=America/Los_Angeles:20240323T090000
DTEND;TZID=America/Los_Angeles:20240323T120000
DTSTAMP:20240314T192018Z
URL:https://anandaportland.org/events/communing-with-aum-in-nature/
SUMMARY:Communing with Aum in Nature
DESCRIPTION:Join visiting Ananda minister and world-renowned nature educato
 r Sundara Traymar for a special program blending nature awareness activiti
 es and the powerful expression of God in nature as AUM\, the sacred sound.
  Hiking in the serene trails of the scenic Hoyt Arboretum\, Sundara will l
 ead our group through a series of practices to deepen our awareness of the
  Divine in nature\, and in ourselves.\n\n[caption id="attachment_16557998"
  align="alignleft" width="350"] Hoyt Arboretum's magical Redwood Forest[/c
 aption]\n\n&nbsp\;\n\n&nbsp\;\n\n&nbsp\;\n\n&nbsp\;\n\n&nbsp\;\n\n&nbsp\;\
 n\n\n\nSundara is an international teacher and nature educator with decade
 s of experience in his field. Learn more about Sundara here.\n\n&nbsp\;\n\
 n \n\n 
ATTACH;FMTTYPE=image/jpeg:https://anandaportland.org/wp-content/uploads/20
 24/03/Untitled-design-1.png
LOCATION:https://www.google.com/maps/place/Hoyt+Arboretum/@45.5153706,-122.
 7142914,16.25z/data=!4m6!3m5!1s0x54950987fa6ec2f1:0x1d78a551ed2727c!8m2!3d
 45.5162616!4d-122.7152124!16zL20vMDhxdGNz?entry=ttu
END:VEVENT
BEGIN:VTIMEZONE
TZID:America/Los_Angeles
X-LIC-LOCATION:America/Los_Angeles
BEGIN:DAYLIGHT
DTSTART:20240310T030000
TZOFFSETFROM:-0800
TZOFFSETTO:-0700
TZNAME:PDT
END:DAYLIGHT
END:VTIMEZONE
END:VCALENDAR