BEGIN:VCALENDAR
VERSION:2.0
PRODID:-//wp-events-plugin.com//7.2.3.1//EN
TZID:America/Los_Angeles
X-WR-TIMEZONE:America/Los_Angeles
BEGIN:VEVENT
UID:3001511@anandaportland.org
DTSTART;TZID=America/Los_Angeles:20240906T090000
DTEND;TZID=America/Los_Angeles:20240907T160000
DTSTAMP:20240817T005450Z
URL:https://anandaportland.org/events/community-multi-family-yard-sale-202
 4-09-06/
SUMMARY:Community Multi-Family Yard Sale
DESCRIPTION:The Ananda Community is having a fundraiser yard sale! Many fam
 ilies will be involved and you can support Ananda and get great deals too!
 \n\nThe location will be in our residential community\, in Raleigh Hills/G
 arden Home.  Come by on Friday or Saturday for fun and bargains.\n\nDonat
 ions of sale items will be taken after August 26th.  *no clothing\n\nCont
 act us if you have questions. 503-626-3403\n\n&nbsp\;\n\n&nbsp\;
ATTACH;FMTTYPE=image/jpeg:https://anandaportland.org/wp-content/uploads/20
 24/07/Free-Clipart-Garage-Sale-Ads.jpg
CATEGORIES:Community,Family Friendly,fundraiser
LOCATION:Ananda Community\, 7020 SW Vermont Court\, Portland\, Oregon\, 972
 23\, United States
X-APPLE-STRUCTURED-LOCATION;VALUE=URI;X-ADDRESS=7020 SW Vermont Court\, Por
 tland\, Oregon\, 97223\, United States;X-APPLE-RADIUS=100;X-TITLE=Ananda C
 ommunity:geo:0,0
END:VEVENT
BEGIN:VTIMEZONE
TZID:America/Los_Angeles
X-LIC-LOCATION:America/Los_Angeles
BEGIN:DAYLIGHT
DTSTART:20240310T030000
TZOFFSETFROM:-0800
TZOFFSETTO:-0700
TZNAME:PDT
END:DAYLIGHT
END:VTIMEZONE
END:VCALENDAR