BEGIN:VCALENDAR
VERSION:2.0
PRODID:-//wp-events-plugin.com//7.2.3.1//EN
TZID:America/Los_Angeles
X-WR-TIMEZONE:America/Los_Angeles
BEGIN:VEVENT
UID:6004937@anandaportland.org
DTSTART;TZID=America/Los_Angeles:20260612T190000
DTEND;TZID=America/Los_Angeles:20260612T203000
DTSTAMP:20260303T171151Z
URL:https://anandaportland.org/events/divine-light-kirtan/
SUMMARY:Divine Light Kirtan
DESCRIPTION:Kirtan is a shared time of devotional chanting\, with short per
 iods of meditation. Chanting is a spiritual practice that opens the heart 
 and allows for an experience of deep inner stillness and connection with t
 he divine presence within.\n\nWe will chant together in our beautiful temp
 le sanctuary and celebrate the Divine Light that shines within all creatio
 n.\n\nNo experience necessary!  We will share the words to the chants\, w
 hich are usually in English and occasionally in Sanskrit. Our musicians us
 e harmoniums\, guitars and harp.\n\nPlease come and join us for our monthl
 y kirtans. All are welcome.\n\nThis is a free event.  Donations are appre
 ciated.\n\n&nbsp\;\n\n&nbsp\;\n\n&nbsp\;
ATTACH;FMTTYPE=image/jpeg:https://anandaportland.org/wp-content/uploads/20
 24/01/Sp-Eye-SK-Painting_36in-350x496-1.jpg
CATEGORIES:Kirtan/Chanting
LOCATION:Ananda Portland Temple\, 4855 SW Watson Ave\, Beaverton\, OR\, 970
 05\, United States
X-APPLE-STRUCTURED-LOCATION;VALUE=URI;X-ADDRESS=4855 SW Watson Ave\, Beaver
 ton\, OR\, 97005\, United States;X-APPLE-RADIUS=100;X-TITLE=Ananda Portlan
 d Temple:geo:0,0
END:VEVENT
BEGIN:VTIMEZONE
TZID:America/Los_Angeles
X-LIC-LOCATION:America/Los_Angeles
BEGIN:DAYLIGHT
DTSTART:20260308T030000
TZOFFSETFROM:-0800
TZOFFSETTO:-0700
TZNAME:PDT
END:DAYLIGHT
END:VTIMEZONE
END:VCALENDAR