BEGIN:VCALENDAR
VERSION:2.0
PRODID:-//wp-events-plugin.com//7.2.3.1//EN
TZID:America/Los_Angeles
X-WR-TIMEZONE:America/Los_Angeles
BEGIN:VEVENT
UID:3001239@anandaportland.org
DTSTART;TZID=America/Los_Angeles:20240427T100000
DTEND;TZID=America/Los_Angeles:20240427T120000
DTSTAMP:20240413T142542Z
URL:https://anandaportland.org/events/divine-mother-tea-and-garden-tour/
SUMMARY:Divine Mother Tea and Garden Tour
DESCRIPTION:\n\nThis wonderful opportunity is a fundraiser event for Ananda
  Portland. This will involve time at the beautiful and sacred grounds of T
 he Grotto Sanctuary in NE Portland.\n\nA walk in the upper gardens with ti
 me at the shrines accompanied by Ananda musicians singing and playing song
 s by Swami Kriyananda will be followed by a catered tea with Nayaswamis Jy
 otish and Devi in a private space on The Grotto grounds.\n\n[caption id="a
 ttachment_16557963" align="aligncenter" width="350"] The Grotto\, NE Portl
 and\, OR[/caption]\n\n&nbsp\;\n\n\n\nTickets are $150 per person\, or $250
 /couple. Register and pay below for this special morning.
ATTACH;FMTTYPE=image/jpeg:https://anandaportland.org/wp-content/uploads/20
 24/02/Mother2smaller-scaled-e1709236506351.jpg
CATEGORIES:Devotional Event,fundraiser,Guest Speakers
LOCATION:The Grotto\, 8840 NE Skidmore Street\, Portland\, Oregon\, 97220\,
  United States
X-APPLE-STRUCTURED-LOCATION;VALUE=URI;X-ADDRESS=8840 NE Skidmore Street\, P
 ortland\, Oregon\, 97220\, United States;X-APPLE-RADIUS=100;X-TITLE=The Gr
 otto:geo:0,0
END:VEVENT
BEGIN:VTIMEZONE
TZID:America/Los_Angeles
X-LIC-LOCATION:America/Los_Angeles
BEGIN:DAYLIGHT
DTSTART:20240310T030000
TZOFFSETFROM:-0800
TZOFFSETTO:-0700
TZNAME:PDT
END:DAYLIGHT
END:VTIMEZONE
END:VCALENDAR