BEGIN:VCALENDAR
VERSION:2.0
PRODID:-//wp-events-plugin.com//7.2.3.1//EN
TZID:America/Los_Angeles
X-WR-TIMEZONE:America/Los_Angeles
BEGIN:VEVENT
UID:3001244@anandaportland.org
DTSTART;TZID=America/Los_Angeles:20240331T140000
DTEND;TZID=America/Los_Angeles:20240331T160000
DTSTAMP:20240315T013046Z
URL:https://anandaportland.org/events/easter-dessert-open-houses-and-an-eg
 g-hunt-for-children/
SUMMARY:Easter Dessert Open Houses and an Egg Hunt for children
DESCRIPTION:Come join us at our community for a fun Easter afternoon. All a
 re welcome.\n\n\n\nLocation:  7020 SW Vermont Court\, Portland\, 97223\n\
 nSchedule: \n\n2 - 2:30 PM:  Easter Egg hunt for families with children 
 outside the Living Joy Center (community room)\n\n2 - 4 PM: Easter Dessert
  Open Houses at five different homes in the community.\n\nCall Lorna if yo
 u have questions or would like to contribute a dessert to share.  971-219
 -0767
ATTACH;FMTTYPE=image/jpeg:https://anandaportland.org/wp-content/uploads/20
 22/04/eastereggs.jpg
LOCATION:Ananda Community\, 7020 SW Vermont Court\, Portland\, Oregon\, 972
 23\, United States
X-APPLE-STRUCTURED-LOCATION;VALUE=URI;X-ADDRESS=7020 SW Vermont Court\, Por
 tland\, Oregon\, 97223\, United States;X-APPLE-RADIUS=100;X-TITLE=Ananda C
 ommunity:geo:0,0
END:VEVENT
BEGIN:VTIMEZONE
TZID:America/Los_Angeles
X-LIC-LOCATION:America/Los_Angeles
BEGIN:DAYLIGHT
DTSTART:20240310T030000
TZOFFSETFROM:-0800
TZOFFSETTO:-0700
TZNAME:PDT
END:DAYLIGHT
END:VTIMEZONE
END:VCALENDAR