BEGIN:VCALENDAR
VERSION:2.0
PRODID:-//wp-events-plugin.com//7.2.3.1//EN
TZID:America/Los_Angeles
X-WR-TIMEZONE:America/Los_Angeles
BEGIN:VEVENT
UID:3001247@anandaportland.org
DTSTART;TZID=America/Los_Angeles:20240330T140000
DTEND;TZID=America/Los_Angeles:20240330T150000
DTSTAMP:20240328T063349Z
URL:https://anandaportland.org/events/egg-dyeing-for-children/
SUMMARY:Egg Dyeing for Children
DESCRIPTION:Join the fun at the Ananda Community to prepare for Easter!\n\n
 Egg dyeing led by Gita Matlock will be happening at the community room (Th
 e Living Joy Center) @ 2 PM.\n\nContact GitaMcGilloway@gmail.com or call 4
 15-238-1551
ATTACH;FMTTYPE=image/jpeg:https://anandaportland.org/wp-content/uploads/20
 22/04/eastereggs.jpg
CATEGORIES:Community,Family Friendly
LOCATION:Ananda Community\, 7020 SW Vermont Court\, Portland\, Oregon\, 972
 23\, United States
X-APPLE-STRUCTURED-LOCATION;VALUE=URI;X-ADDRESS=7020 SW Vermont Court\, Por
 tland\, Oregon\, 97223\, United States;X-APPLE-RADIUS=100;X-TITLE=Ananda C
 ommunity:geo:0,0
END:VEVENT
BEGIN:VTIMEZONE
TZID:America/Los_Angeles
X-LIC-LOCATION:America/Los_Angeles
BEGIN:DAYLIGHT
DTSTART:20240310T030000
TZOFFSETFROM:-0800
TZOFFSETTO:-0700
TZNAME:PDT
END:DAYLIGHT
END:VTIMEZONE
END:VCALENDAR