BEGIN:VCALENDAR
VERSION:2.0
PRODID:-//wp-events-plugin.com//7.2.3.1//EN
TZID:America/Los_Angeles
X-WR-TIMEZONE:America/Los_Angeles
BEGIN:VEVENT
UID:4002583@anandaportland.org
DTSTART;TZID=America/Los_Angeles:20250704T160000
DTEND;TZID=America/Los_Angeles:20250704T190000
DTSTAMP:20250528T213837Z
URL:https://anandaportland.org/events/fourth-of-july-celebration/
SUMMARY:Fourth of July Celebration
DESCRIPTION:\nCelebrate Freedom &amp\; Community!Join us for a joyful after
 noon honoring both the birth of our country and the founding of Ananda!
 🎉 Potluck • 🎤 Talent Show • 🎲 GamesThursday\, July 4th | 4–
 7 PMAt the Ananda Community\nBring a dish to share\, your talents (or just
  your applause!)\, and your love of community fun. All are welcome!
LOCATION:Ananda Community\, 7020 SW Vermont Court\, Portland\, Oregon\, 972
 23\, United States
X-APPLE-STRUCTURED-LOCATION;VALUE=URI;X-ADDRESS=7020 SW Vermont Court\, Por
 tland\, Oregon\, 97223\, United States;X-APPLE-RADIUS=100;X-TITLE=Ananda C
 ommunity:geo:0,0
END:VEVENT
BEGIN:VTIMEZONE
TZID:America/Los_Angeles
X-LIC-LOCATION:America/Los_Angeles
BEGIN:DAYLIGHT
DTSTART:20250309T030000
TZOFFSETFROM:-0800
TZOFFSETTO:-0700
TZNAME:PDT
END:DAYLIGHT
END:VTIMEZONE
END:VCALENDAR