BEGIN:VCALENDAR
VERSION:2.0
PRODID:-//wp-events-plugin.com//7.2.3.1//EN
TZID:America/Los_Angeles
X-WR-TIMEZONE:America/Los_Angeles
BEGIN:VEVENT
UID:3001252@anandaportland.org
DTSTART;TZID=America/Los_Angeles;VALUE=DATE:20240614
DTEND;TZID=America/Los_Angeles;VALUE=DATE:20240617
DTSTAMP:20240531T053347Z
URL:https://anandaportland.org/events/guests-shurjo-and-narayani-from-anan
 da-mumbai/
SUMMARY:Guests Shurjo and Narayani from Ananda Mumbai
DESCRIPTION:Tyagi Shurjo and Tyagi Narayani are the Spiritual Directors of 
 Ananda Mumbai. They will be on an extended visit to the US during 2024 and
  will be visiting Ananda Portland.\n\n&nbsp\;\n\nMore about Narayani and S
 hurjo can be found HERE.\n\n&nbsp\;
ATTACH;FMTTYPE=image/jpeg:https://anandaportland.org/wp-content/uploads/20
 24/04/surjo-narayani-1-350x337-1.jpg
CATEGORIES:Guest Speakers
LOCATION:Ananda Temple and Teaching Center\, 4855 SW Watson Ave\, Beaverton
 \, OR\, 97005\, United States
X-APPLE-STRUCTURED-LOCATION;VALUE=URI;X-ADDRESS=4855 SW Watson Ave\, Beaver
 ton\, OR\, 97005\, United States;X-APPLE-RADIUS=100;X-TITLE=Ananda Temple 
 and Teaching Center:geo:0,0
END:VEVENT
BEGIN:VTIMEZONE
TZID:America/Los_Angeles
X-LIC-LOCATION:America/Los_Angeles
BEGIN:DAYLIGHT
DTSTART:20240310T030000
TZOFFSETFROM:-0800
TZOFFSETTO:-0700
TZNAME:PDT
END:DAYLIGHT
END:VTIMEZONE
END:VCALENDAR