BEGIN:VCALENDAR
VERSION:2.0
PRODID:-//wp-events-plugin.com//7.2.3.1//EN
TZID:America/Los_Angeles
X-WR-TIMEZONE:America/Los_Angeles
BEGIN:VEVENT
UID:3000857@anandaportland.org
DTSTART;TZID=America/Los_Angeles:20241005T083000
DTEND;TZID=America/Los_Angeles:20241005T133000
DTSTAMP:20241002T171944Z
URL:https://anandaportland.org/events/harvest-day-at-the-community/
SUMMARY:Harvest Day at the Community
DESCRIPTION:Harvest Day is our fall seva day and all are encouraged to take
  part!\n\nThis year we will be harvesting and juicing apples from our abun
 dant orchard. We will also be working in the greenspace\, weeding\, prunin
 g\, and preparing for future projects. All skill levels are welcome.\n\n8:
 30 AM - get going with coffee and treats\n\n9 AM - opening circle and job 
 assignments\n\n12:30 ish - meditation\n\n1 PM - Lunch\n\nTimes are approxi
 mate and you are welcome to come anytime.\n\n*Supplies are provided\, but 
 you may want to bring your own work gloves. \n\nSign up here:\n\nhttps://
 docs.google.com/forms/d/1IxFbcLd8-wyHS9x9FTRI1FWX9Mc7NDKQFtF5xoc0JYU/edit
ATTACH;FMTTYPE=image/jpeg:https://anandaportland.org/wp-content/uploads/20
 23/09/IMG_20240918_150949-scaled.jpg
CATEGORIES:Community Service,Family Friendly,Service &amp; Satsangs
LOCATION:Portland Community\, 7020 SW Vermont Court\, Portland\, OR\, 97223
 \, United States
X-APPLE-STRUCTURED-LOCATION;VALUE=URI;X-ADDRESS=7020 SW Vermont Court\, Por
 tland\, OR\, 97223\, United States;X-APPLE-RADIUS=100;X-TITLE=Portland Com
 munity:geo:0,0
END:VEVENT
BEGIN:VTIMEZONE
TZID:America/Los_Angeles
X-LIC-LOCATION:America/Los_Angeles
BEGIN:DAYLIGHT
DTSTART:20240310T030000
TZOFFSETFROM:-0800
TZOFFSETTO:-0700
TZNAME:PDT
END:DAYLIGHT
END:VTIMEZONE
END:VCALENDAR