BEGIN:VCALENDAR
VERSION:2.0
PRODID:-//wp-events-plugin.com//7.2.3.1//EN
TZID:America/Los_Angeles
X-WR-TIMEZONE:America/Los_Angeles
BEGIN:VEVENT
UID:6004847@anandaportland.org
DTSTART;TZID=America/Los_Angeles:20261003T083000
DTEND;TZID=America/Los_Angeles:20261003T133000
DTSTAMP:20260124T011554Z
URL:https://anandaportland.org/events/harvest-seva-day-at-the-temple/
SUMMARY:Harvest Seva Day at the Temple
DESCRIPTION:All are welcome to our annual fall seva day - a day of service\
 , friendship and joy.\n\nWe will be working inside and outside to beautify
  our temple space.\n\nAll skill levels are encouraged to take part for all
  or part of the morning. Families are welcome.\n\nTentative schedule:\n\n8
 :30 treats and coffee\n\n8:45: morning circle\, assignments of jobs\n\n12:
 30: meditation\n\n1:00:  Lunch\n\n1:30: clean up
ATTACH;FMTTYPE=image/jpeg:https://anandaportland.org/wp-content/uploads/20
 23/09/leaf01-scaled.jpg
LOCATION:Ananda Temple in Beaverton\, 4855 SW Watson Avenue\, Beaverton\, O
 regon\, 97005\, United States
X-APPLE-STRUCTURED-LOCATION;VALUE=URI;X-ADDRESS=4855 SW Watson Avenue\, Bea
 verton\, Oregon\, 97005\, United States;X-APPLE-RADIUS=100;X-TITLE=Ananda 
 Temple in Beaverton:geo:0,0
END:VEVENT
BEGIN:VTIMEZONE
TZID:America/Los_Angeles
X-LIC-LOCATION:America/Los_Angeles
BEGIN:DAYLIGHT
DTSTART:20260308T030000
TZOFFSETFROM:-0800
TZOFFSETTO:-0700
TZNAME:PDT
END:DAYLIGHT
END:VTIMEZONE
END:VCALENDAR