BEGIN:VCALENDAR
VERSION:2.0
PRODID:-//wp-events-plugin.com//7.2.3.1//EN
TZID:America/Los_Angeles
X-WR-TIMEZONE:America/Los_Angeles
BEGIN:VEVENT
UID:3000482@anandaportland.org
DTSTART;TZID=America/Los_Angeles:20240821T190000
DTEND;TZID=America/Los_Angeles:20240821T200000
DTSTAMP:20230917T005811Z
URL:https://anandaportland.org/events/healing-prayer-ministry-2024-08-21/
SUMMARY:Healing Prayer Ministry
DESCRIPTION:Using techniques taught by Paramhansa Yogananda\, the Healing P
 rayer ministry prays weekly on Zoom for those in need. Those who serve in 
 this way need to be deeply connected with the path of Kriya yoga as brough
 t by Yogananda.  If you would like to join this ministry\, please contact
  us at prayers@anandaportland.org.
ATTACH;FMTTYPE=image/jpeg:https://anandaportland.org/wp-content/uploads/20
 21/01/healingprayersdelhi-1.jpeg
CATEGORIES:Service &amp; Satsangs
END:VEVENT
BEGIN:VTIMEZONE
TZID:America/Los_Angeles
X-LIC-LOCATION:America/Los_Angeles
BEGIN:DAYLIGHT
DTSTART:20240310T030000
TZOFFSETFROM:-0800
TZOFFSETTO:-0700
TZNAME:PDT
END:DAYLIGHT
END:VTIMEZONE
END:VCALENDAR