BEGIN:VCALENDAR
VERSION:2.0
PRODID:-//wp-events-plugin.com//7.2.3.1//EN
TZID:America/Los_Angeles
X-WR-TIMEZONE:America/Los_Angeles
BEGIN:VEVENT
UID:4002539@anandaportland.org
DTSTART;TZID=America/Los_Angeles:20250411T190000
DTEND;TZID=America/Los_Angeles:20250411T203000
DTSTAMP:20250327T205003Z
URL:https://anandaportland.org/events/hope-for-a-better-world-spiritual-co
 mmunity/
SUMMARY:Spiritual Community: Hope for a Better World
DESCRIPTION:Ananda Portland presents a special evening with Nayaswami Jyot
 ish and Nayaswami Devi\, visiting spiritual directors of Ananda Sangha Wor
 ldwide and United Nations Global Peace Ambassadors. For over fifty years\,
  Jyotish and Devi have been instrumental in the creation\, leadership and 
 support of spiritual communities all over the world.\n\nJoin us for a spec
 ial evening of music\, inspiration and sharing with time for questions and
  answers. Together we can create a more peaceful world starting with our o
 wn hearts and minds\, and expanding to our communities and the world aroun
 d us.\n\nAll are welcome to this FREE event at New Renaissance Bookshop Ev
 ent Center. \n\n&nbsp\;\n\nOther events to enjoy during Jyotish and Devi'
 s Portland visit: \n\nSaturday\, April 12 @ 10 AM:  Divine Mother Concer
 t and Tea at The Grotto\nThis is a special fundraiser event at the beautif
 ul sanctuary in NE Portland.\n\n\nSaturday\, April 12 @ 6 PM: Hope for a B
 etter World: The Self-Realization Solution\nMusic\, inspiration\, question
 s and answers with Jyotish and Devi\, snacks and refreshments to follow. 
   Held at the Ananda Portland Temple in Beaverton.  FREE\n\nSunday\, Apr
 il 13 @ 9 AM:  Fire and Purification Ceremonies and Sunday Service with J
 yotish and Devi at the Ananda Portland Temple.\n\n&nbsp\;\n\nThis special 
 weekend is made possible in part with the support of the Ananda Janaka Fou
 ndation. \n\nThe Ananda Janaka Foundation is a 501 (c) (3)\, non-profit\,
  religious foundation established to support the future of Ananda through 
 estate gift planning.\n\n&nbsp\;
ATTACH;FMTTYPE=image/jpeg:https://anandaportland.org/wp-content/uploads/20
 20/03/JD_Pronamcropped.jpg
LOCATION:New Renaissance Bookshop\, 1338 NW 23rd Ave\, Portland\, Oregon\, 
 97210\, United States
X-APPLE-STRUCTURED-LOCATION;VALUE=URI;X-ADDRESS=1338 NW 23rd Ave\, Portland
 \, Oregon\, 97210\, United States;X-APPLE-RADIUS=100;X-TITLE=New Renaissan
 ce Bookshop:geo:0,0
END:VEVENT
BEGIN:VTIMEZONE
TZID:America/Los_Angeles
X-LIC-LOCATION:America/Los_Angeles
BEGIN:DAYLIGHT
DTSTART:20250309T030000
TZOFFSETFROM:-0800
TZOFFSETTO:-0700
TZNAME:PDT
END:DAYLIGHT
END:VTIMEZONE
END:VCALENDAR