BEGIN:VCALENDAR
VERSION:2.0
PRODID:-//wp-events-plugin.com//7.2.3.1//EN
TZID:America/Los_Angeles
X-WR-TIMEZONE:America/Los_Angeles
BEGIN:VEVENT
UID:6004860@anandaportland.org
DTSTART;TZID=America/Los_Angeles:20260704T120000
DTEND;TZID=America/Los_Angeles:20260704T140000
DTSTAMP:20260124T020252Z
URL:https://anandaportland.org/events/independence-day-bbq-potluck/
SUMMARY:Independence Day BBQ potluck
DESCRIPTION:Join us for a celebration BBQ!  We will provide vegetarian bur
 gers and hot dogs and you are invited to bring sides dishes and dessert. W
 e will enjoy satsang and games and music too.\n\nMore details to come.\n\n
 &nbsp\;
ATTACH;FMTTYPE=image/jpeg:https://anandaportland.org/wp-content/uploads/20
 25/05/4th-of-July.jpeg
LOCATION:Ananda Temple in Beaverton\, 4855 SW Watson Avenue\, Beaverton\, O
 regon\, 97005\, United States
X-APPLE-STRUCTURED-LOCATION;VALUE=URI;X-ADDRESS=4855 SW Watson Avenue\, Bea
 verton\, Oregon\, 97005\, United States;X-APPLE-RADIUS=100;X-TITLE=Ananda 
 Temple in Beaverton:geo:0,0
END:VEVENT
BEGIN:VTIMEZONE
TZID:America/Los_Angeles
X-LIC-LOCATION:America/Los_Angeles
BEGIN:DAYLIGHT
DTSTART:20260308T030000
TZOFFSETFROM:-0800
TZOFFSETTO:-0700
TZNAME:PDT
END:DAYLIGHT
END:VTIMEZONE
END:VCALENDAR