BEGIN:VCALENDAR
VERSION:2.0
PRODID:-//wp-events-plugin.com//7.2.3.1//EN
TZID:America/Los_Angeles
X-WR-TIMEZONE:America/Los_Angeles
BEGIN:VEVENT
UID:5003350@anandaportland.org
DTSTART;TZID=America/Los_Angeles:20251130T233000
DTEND;TZID=America/Los_Angeles:20251130T233000
DTSTAMP:20251122T011803Z
URL:https://anandaportland.org/events/india-satsang-with-badri-and-melissa
 /
SUMMARY:India Satsang with the Pilgrims
DESCRIPTION:Our India Pilgrims Have Returned!Join us on Saturday\, November
  30th at 11:30am for an inspiring gathering as our pilgrims share stories\
 , photos\, and the blessings they received on their journey through India.
  Come enjoy their experiences\, feel the uplifting energy\, and celebrate 
 the sacred adventure together.\n\n
END:VEVENT
BEGIN:VTIMEZONE
TZID:America/Los_Angeles
X-LIC-LOCATION:America/Los_Angeles
BEGIN:STANDARD
DTSTART:20251102T010000
TZOFFSETFROM:-0700
TZOFFSETTO:-0800
TZNAME:PST
END:STANDARD
END:VTIMEZONE
END:VCALENDAR