BEGIN:VCALENDAR
VERSION:2.0
PRODID:-//wp-events-plugin.com//7.2.3.1//EN
TZID:America/Los_Angeles
X-WR-TIMEZONE:America/Los_Angeles
BEGIN:VEVENT
UID:3002461@anandaportland.org
DTSTART;TZID=America/Los_Angeles:20250217T000000
DTEND;TZID=America/Los_Angeles:20250220T234500
DTSTAMP:20250118T034643Z
URL:https://anandaportland.org/events/inner-renewal-week/
SUMMARY:Inner Renewal Retreat
DESCRIPTION:\n\n\nInner Renewal Retreat is an annual event held at Ananda V
 illage\, in northern California. Use the link below to get more informatio
 n and to register to participate in person\, or online.\n\nHave access to 
 all the online events of the retreat for FREE by registering HERE\n\n*Come
  to the Portland Temple and watch the morning classes with us.  FREE\n\n1
 0:30 AM - 12 PM Monday - Thursday\nThis Year's Theme: "How to Be a Channel
  for the Light"\n\n\n\n\n\n\nThe uncertainty and divisions in the world ca
 n leave us yearning for a deeper sense of purpose and connection. The good
  news is that each of us has the ability to bring light into the world—
 not by changing outer circumstances\, but by raising our own consciousness
 .\n\nJoin us for this 4-day event where you will learn practical tools to 
 raise your consciousness to be a channel for the light. You will experienc
 e uplifting classes with Ananda Worldwide’s Spiritual Directors\, Nayas
 wami Jyotish and Nayaswami Devi\, daily group meditations\, uplifting mus
 ic\, opportunities for Q&amp\;A and much more.\n\nTogether\, we can become
  instruments of healing and unity in a world that needs it so deeply.\n\nR
 egister for attending in person HERE\n\n\n
ATTACH;FMTTYPE=image/jpeg:https://anandaportland.org/wp-content/uploads/20
 20/03/JD_Pronamcropped.jpg
CATEGORIES:Classes,Retreat
END:VEVENT
BEGIN:VTIMEZONE
TZID:America/Los_Angeles
X-LIC-LOCATION:America/Los_Angeles
BEGIN:STANDARD
DTSTART:20241103T010000
TZOFFSETFROM:-0700
TZOFFSETTO:-0800
TZNAME:PST
END:STANDARD
END:VTIMEZONE
END:VCALENDAR