BEGIN:VCALENDAR
VERSION:2.0
PRODID:-//wp-events-plugin.com//7.2.3.1//EN
TZID:America/Los_Angeles
X-WR-TIMEZONE:America/Los_Angeles
BEGIN:VEVENT
UID:3001313@anandaportland.org
DTSTART;TZID=America/Los_Angeles:20240805T100000
DTEND;TZID=America/Los_Angeles:20240809T130000
DTSTAMP:20240716T062949Z
URL:https://anandaportland.org/events/joyful-heart-camp/
SUMMARY:Joyful Heart Camp
DESCRIPTION:This summer day camp is for ages 4 - 7.  Each day will be fill
 ed with fun activities involving yoga\, music\, nature\, stories\, outdoor
  games\, and creativity.\n\nCall us with questions if you want to know mor
 e.\n\nMelissa Heart:\nmelissa27heart@gmail.com\n503-671-9112\n\nCost:  $1
 75\n\n&nbsp\;
ATTACH;FMTTYPE=image/jpeg:https://anandaportland.org/wp-content/uploads/20
 24/05/Joyful-Heart-Camp-2024-1.jpeg
CATEGORIES:Family Friendly
LOCATION:Ananda Portland Temple\, 4855 SW Watson Ave\, Beaverton\, OR\, 970
 05\, United States
X-APPLE-STRUCTURED-LOCATION;VALUE=URI;X-ADDRESS=4855 SW Watson Ave\, Beaver
 ton\, OR\, 97005\, United States;X-APPLE-RADIUS=100;X-TITLE=Ananda Portlan
 d Temple:geo:0,0
END:VEVENT
BEGIN:VTIMEZONE
TZID:America/Los_Angeles
X-LIC-LOCATION:America/Los_Angeles
BEGIN:DAYLIGHT
DTSTART:20240310T030000
TZOFFSETFROM:-0800
TZOFFSETTO:-0700
TZNAME:PDT
END:DAYLIGHT
END:VTIMEZONE
END:VCALENDAR