BEGIN:VCALENDAR
VERSION:2.0
PRODID:-//wp-events-plugin.com//7.2.3.1//EN
TZID:America/Los_Angeles
X-WR-TIMEZONE:America/Los_Angeles
BEGIN:VEVENT
UID:6004861@anandaportland.org
DTSTART;TZID=America/Los_Angeles;VALUE=DATE:20260605
DTEND;TZID=America/Los_Angeles;VALUE=DATE:20260608
DTSTAMP:20260319T231739Z
URL:https://anandaportland.org/events/jyotish-and-devi-visit/
SUMMARY:Nayaswami Jyotish and Nayaswami Devi visit Portland
DESCRIPTION:Join us June 5-7 for a special weekend of activities with Nayas
 wami Jyotish and Nayaswami Devi\, spiritual directors of Ananda Worldwide!
  They are wonderful spiritual teachers\, friends\, guides and global ambas
 sadors of peace and joy. Below is an overview of the weekend schedule - cl
 ick the link to sign up or learn more about specific events.\n\n&nbsp\;\n\
 nFriday\, June 5\n\n5:30-7pm - Shanti Garden Gala ~  Yogananda Community 
 Fundraiser: gourmet dinner\, music\, entertainment and inspiration\n\n$150
  per person / $250 per couple - help us continue to build spiritual commun
 ity and transform our beautiful Temple spaces!\n\n&nbsp\;\n\nSaturday\, Ju
 ne 6\n\n7 am-12:30 pm - Spiritual Community Half-Day Retreat with Jyotish 
 &amp\; Devi: featuring yoga\, meditation\, music\, food &amp\; inspiration
   ~ $40 person includes breakfast and snacks\n\n7 pm Q&amp\;A Satsang wit
 h Jyotish &amp\; Devi ~ Free Event\n\n&nbsp\;\n\nSunday\, June 7\n\n9 am F
 ire &amp\; Purification Ceremonies\, Peace &amp\; Harmony Meditation and P
 rayer with Jyotish &amp\; Devi\n\n10 am Sunday Service with Jyotish &amp\;
  Devi
ATTACH;FMTTYPE=image/jpeg:https://anandaportland.org/wp-content/uploads/20
 23/11/Jyotish-and-Devi-1b-650x366-1.jpg
LOCATION:Ananda Temple in Beaverton\, 4855 SW Watson Avenue\, Beaverton\, O
 regon\, 97005\, United States
X-APPLE-STRUCTURED-LOCATION;VALUE=URI;X-ADDRESS=4855 SW Watson Avenue\, Bea
 verton\, Oregon\, 97005\, United States;X-APPLE-RADIUS=100;X-TITLE=Ananda 
 Temple in Beaverton:geo:0,0
END:VEVENT
BEGIN:VTIMEZONE
TZID:America/Los_Angeles
X-LIC-LOCATION:America/Los_Angeles
BEGIN:DAYLIGHT
DTSTART:20260308T030000
TZOFFSETFROM:-0800
TZOFFSETTO:-0700
TZNAME:PDT
END:DAYLIGHT
END:VTIMEZONE
END:VCALENDAR