BEGIN:VCALENDAR
VERSION:2.0
PRODID:-//wp-events-plugin.com//7.2.3.1//EN
TZID:America/Los_Angeles
X-WR-TIMEZONE:America/Los_Angeles
BEGIN:VEVENT
UID:4002564@anandaportland.org
DTSTART;TZID=America/Los_Angeles:20250524T190000
DTEND;TZID=America/Los_Angeles:20250524T203000
DTSTAMP:20250423T185447Z
URL:https://anandaportland.org/events/kirtan-at-community-2/
SUMMARY:Kirtan at Community
DESCRIPTION:Join Janice &amp\; Mic for an informal kirtan in the Living Jo
 y Center Chapel. \n\nJanice plays harp and harmonium and Mic brings his t
 alents with percussion and guitar. Together they are a lively team and the
 y will carry us along in devotion and song.\n\n\n\nFREE  All are welcome.
   Address:  7020 SW Vermont Court\n\n&nbsp\;\n\n
END:VEVENT
BEGIN:VTIMEZONE
TZID:America/Los_Angeles
X-LIC-LOCATION:America/Los_Angeles
BEGIN:DAYLIGHT
DTSTART:20250309T030000
TZOFFSETFROM:-0800
TZOFFSETTO:-0700
TZNAME:PDT
END:DAYLIGHT
END:VTIMEZONE
END:VCALENDAR