BEGIN:VCALENDAR
VERSION:2.0
PRODID:-//wp-events-plugin.com//7.2.3.1//EN
TZID:America/Los_Angeles
X-WR-TIMEZONE:America/Los_Angeles
BEGIN:VEVENT
UID:4002541@anandaportland.org
DTSTART;TZID=America/Los_Angeles:20250329T190000
DTEND;TZID=America/Los_Angeles:20250329T203000
DTSTAMP:20250304T213822Z
URL:https://anandaportland.org/events/kirtan-at-community/
SUMMARY:Kirtan at Community
DESCRIPTION:Join Janice &amp\; Mic for an informal kirtan in the Living Joy
  Center Chapel. \n\nJanice plays harp and harmonium and Mic brings his ta
 lents with percussion and guitar. Together they are a lively team and they
  will carry us along in devotion and song.\n\nFREE  All are welcome.  Ad
 dress:  7020 SW Vermont Court
ATTACH;FMTTYPE=image/jpeg:https://anandaportland.org/wp-content/uploads/20
 15/08/harmonium-candle.jpg
LOCATION:Ananda Community\, 7020 SW Vermont Court\, Portland\, Oregon\, 972
 23\, United States
X-APPLE-STRUCTURED-LOCATION;VALUE=URI;X-ADDRESS=7020 SW Vermont Court\, Por
 tland\, Oregon\, 97223\, United States;X-APPLE-RADIUS=100;X-TITLE=Ananda C
 ommunity:geo:0,0
END:VEVENT
BEGIN:VTIMEZONE
TZID:America/Los_Angeles
X-LIC-LOCATION:America/Los_Angeles
BEGIN:DAYLIGHT
DTSTART:20250309T030000
TZOFFSETFROM:-0800
TZOFFSETTO:-0700
TZNAME:PDT
END:DAYLIGHT
END:VTIMEZONE
END:VCALENDAR