BEGIN:VCALENDAR
VERSION:2.0
PRODID:-//wp-events-plugin.com//7.2.3.1//EN
TZID:America/Los_Angeles
X-WR-TIMEZONE:America/Los_Angeles
BEGIN:VEVENT
UID:4002785@anandaportland.org
DTSTART;TZID=America/Los_Angeles:20251017T190000
DTEND;TZID=America/Los_Angeles:20251017T203000
DTSTAMP:20250917T194127Z
URL:https://anandaportland.org/events/kirtan-at-the-temple-10/
SUMMARY:Divine Light Kirtan with Sagar
DESCRIPTION:Kirtan is a shared time of devotional chanting\, with short per
 iods of meditation. Chanting is a spiritual practice that opens the heart 
 and allows for an experience of deep inner stillness and connection with t
 he divine presence within.\n\n\n\nWe will chant together in our beautiful 
 temple sanctuary with our special guest from Ananda Village\, Nayaswami Sa
 gar.\n\nOur kirtan theme this month is Divine Light.  With the festival o
 f Diwali around the corner we will share the joy of opening our hearts to 
 the divine light within and without.\n\n&nbsp\;\n\n&nbsp\;\n\nNo experienc
 e necessary!  We will share the words to the chants\, which are usually i
 n English and occasionally in Sanskrit. Our musicians use harmoniums\, gui
 tars and a harp.\n\nPlease come and join us for our monthly kirtans. All a
 re welcome.\n\nThis is a free event.  Donations are appreciated.\n\n&nbsp
 \;\n\n&nbsp\;\n\n&nbsp\;
ATTACH;FMTTYPE=image/jpeg:https://anandaportland.org/wp-content/uploads/20
 23/11/templekirtan1023-scaled.jpg
CATEGORIES:Kirtan/Chanting
LOCATION:Ananda Portland Temple\, 4855 SW Watson Ave\, Beaverton\, OR\, 970
 05\, United States
X-APPLE-STRUCTURED-LOCATION;VALUE=URI;X-ADDRESS=4855 SW Watson Ave\, Beaver
 ton\, OR\, 97005\, United States;X-APPLE-RADIUS=100;X-TITLE=Ananda Portlan
 d Temple:geo:0,0
END:VEVENT
BEGIN:VTIMEZONE
TZID:America/Los_Angeles
X-LIC-LOCATION:America/Los_Angeles
BEGIN:DAYLIGHT
DTSTART:20250309T030000
TZOFFSETFROM:-0800
TZOFFSETTO:-0700
TZNAME:PDT
END:DAYLIGHT
END:VTIMEZONE
END:VCALENDAR