BEGIN:VCALENDAR
VERSION:2.0
PRODID:-//wp-events-plugin.com//7.2.3.1//EN
TZID:America/Los_Angeles
X-WR-TIMEZONE:America/Los_Angeles
BEGIN:VEVENT
UID:3000974@anandaportland.org
DTSTART;TZID=America/Los_Angeles:20231117T190000
DTEND;TZID=America/Los_Angeles:20231117T203000
DTSTAMP:20231104T190608Z
URL:https://anandaportland.org/events/kirtan-at-the-temple-2/
SUMMARY:Kirtan at the Temple
DESCRIPTION:Kirtan is a time of shared devotional chanting\, with brief per
 iods of meditation and stillness. Tonight we will have a harp\, harmonium 
 and percussion to lead us into joy. All can participate - no experience ne
 cessary!\n\nChants are by Swami Kriyananda and Paramhansa Yogananda. The w
 ords will be provided and most of the chants are in English. Come open you
 r heart and feel connected to the Divine Presence in all that is.\n\nKirta
 ns are free and your financial support is always welcome.
ATTACH;FMTTYPE=image/jpeg:https://anandaportland.org/wp-content/uploads/20
 23/11/janicetemplecropped.jpg
CATEGORIES:Kirtan/Chanting
LOCATION:Ananda Temple and Teaching Center\, 4855 SW Watson Ave\, Beaverton
 \, OR\, 97005\, United States
X-APPLE-STRUCTURED-LOCATION;VALUE=URI;X-ADDRESS=4855 SW Watson Ave\, Beaver
 ton\, OR\, 97005\, United States;X-APPLE-RADIUS=100;X-TITLE=Ananda Temple 
 and Teaching Center:geo:0,0
END:VEVENT
BEGIN:VTIMEZONE
TZID:America/Los_Angeles
X-LIC-LOCATION:America/Los_Angeles
BEGIN:STANDARD
DTSTART:20231105T010000
TZOFFSETFROM:-0700
TZOFFSETTO:-0800
TZNAME:PST
END:STANDARD
END:VTIMEZONE
END:VCALENDAR