BEGIN:VCALENDAR
VERSION:2.0
PRODID:-//wp-events-plugin.com//7.2.3.1//EN
TZID:America/Los_Angeles
X-WR-TIMEZONE:America/Los_Angeles
BEGIN:VEVENT
UID:3001242@anandaportland.org
DTSTART;TZID=America/Los_Angeles:20240510T190000
DTEND;TZID=America/Los_Angeles:20240510T203000
DTSTAMP:20240510T054731Z
URL:https://anandaportland.org/events/kirtan-at-the-temple-6/
SUMMARY:Divine Mother Kirtan at the Temple
DESCRIPTION:Kirtan is a time of shared devotional chanting\, with brief per
 iods of meditation and stillness. Chants can be accompanied by guitar\, ha
 rmonium and harp. No experience necessary!\n\nChants are by Swami Kriyanan
 da and Paramhansa Yogananda. The words will be provided and most of the ch
 ants are in English. Come open your heart and feel connected to the Divine
  Presence in all that is.\n\nKirtans are free and your financial support i
 s always welcome.\n\nThis month\, our kirtan theme is "Divine Mother" and 
 the chants will be in this theme. 
ATTACH;FMTTYPE=image/jpeg:https://anandaportland.org/wp-content/uploads/20
 23/11/templekirtan1023-scaled.jpg
CATEGORIES:Kirtan/Chanting
LOCATION:Ananda Temple and Teaching Center\, 4855 SW Watson Ave\, Beaverton
 \, OR\, 97005\, United States
X-APPLE-STRUCTURED-LOCATION;VALUE=URI;X-ADDRESS=4855 SW Watson Ave\, Beaver
 ton\, OR\, 97005\, United States;X-APPLE-RADIUS=100;X-TITLE=Ananda Temple 
 and Teaching Center:geo:0,0
END:VEVENT
BEGIN:VTIMEZONE
TZID:America/Los_Angeles
X-LIC-LOCATION:America/Los_Angeles
BEGIN:DAYLIGHT
DTSTART:20240310T030000
TZOFFSETFROM:-0800
TZOFFSETTO:-0700
TZNAME:PDT
END:DAYLIGHT
END:VTIMEZONE
END:VCALENDAR