BEGIN:VCALENDAR
VERSION:2.0
PRODID:-//wp-events-plugin.com//7.2.3.1//EN
TZID:America/Los_Angeles
X-WR-TIMEZONE:America/Los_Angeles
BEGIN:VEVENT
UID:3001529@anandaportland.org
DTSTART;TZID=America/Los_Angeles:20241108T190000
DTEND;TZID=America/Los_Angeles:20241108T203000
DTSTAMP:20240927T193400Z
URL:https://anandaportland.org/events/kirtan-at-the-temple-7/
SUMMARY:Kirtan at the Temple with Sagar
DESCRIPTION:Tonight's kirtan will welcome Nayaswami Sagar from Ananda Villa
 ge.  Sagar will be here for the weekend and will give a class on Saturday
  and will speak at Sunday Service.\n\nPlease come an join us for this devo
 tional kirtan with Sagar.\n\n&nbsp\;\n\nOur monthly kirtans take place in 
 the temple during the fall and winter.\n\nThese are free events and open t
 o all.   No experience is necessary\, just a desire to sing to God. Most
  chants are by Swami Kriyananda and Paramhansa Yogananda and are sung in E
 nglish. Words are provided.\n\nWe have brief periods of meditation between
  chants and at the end of the evening.\n\nWe hope to see you there!
ATTACH;FMTTYPE=image/jpeg:https://anandaportland.org/wp-content/uploads/20
 23/11/templekirtan1023-scaled.jpg
CATEGORIES:Devotional Event,Kirtan/Chanting,music
LOCATION:Ananda Portland Temple\, 4855 SW Watson Ave\, Beaverton\, OR\, 970
 05\, United States
X-APPLE-STRUCTURED-LOCATION;VALUE=URI;X-ADDRESS=4855 SW Watson Ave\, Beaver
 ton\, OR\, 97005\, United States;X-APPLE-RADIUS=100;X-TITLE=Ananda Portlan
 d Temple:geo:0,0
END:VEVENT
BEGIN:VTIMEZONE
TZID:America/Los_Angeles
X-LIC-LOCATION:America/Los_Angeles
BEGIN:STANDARD
DTSTART:20241103T010000
TZOFFSETFROM:-0700
TZOFFSETTO:-0800
TZNAME:PST
END:STANDARD
END:VTIMEZONE
END:VCALENDAR