BEGIN:VCALENDAR
VERSION:2.0
PRODID:-//wp-events-plugin.com//7.2.3.1//EN
TZID:America/Los_Angeles
X-WR-TIMEZONE:America/Los_Angeles
BEGIN:VEVENT
UID:3001530@anandaportland.org
DTSTART;TZID=America/Los_Angeles:20241025T190000
DTEND;TZID=America/Los_Angeles:20241025T203000
DTSTAMP:20240911T022026Z
URL:https://anandaportland.org/events/kirtan-at-the-temple-8/
SUMMARY:Kirtan at the Temple
DESCRIPTION:Our monthly kirtans take place in the temple during the fall an
 d winter.\n\nThese are free events and open to all.   No experience is n
 ecessary\, just a desire to sing to God. Most chants are by Swami Kriyanan
 da and Paramhansa Yogananda and are sung in English. Words are provided.\n
 \nWe have brief periods of meditation between chants and at the end of the
  evening.\n\nWe hope to see you there!
ATTACH;FMTTYPE=image/jpeg:https://anandaportland.org/wp-content/uploads/20
 23/11/templekirtan1023-scaled.jpg
CATEGORIES:Devotional Event,Kirtan/Chanting,music
LOCATION:Ananda Portland Temple\, 4855 SW Watson Ave\, Beaverton\, OR\, 970
 05\, United States
X-APPLE-STRUCTURED-LOCATION;VALUE=URI;X-ADDRESS=4855 SW Watson Ave\, Beaver
 ton\, OR\, 97005\, United States;X-APPLE-RADIUS=100;X-TITLE=Ananda Portlan
 d Temple:geo:0,0
END:VEVENT
BEGIN:VTIMEZONE
TZID:America/Los_Angeles
X-LIC-LOCATION:America/Los_Angeles
BEGIN:DAYLIGHT
DTSTART:20240310T030000
TZOFFSETFROM:-0800
TZOFFSETTO:-0700
TZNAME:PDT
END:DAYLIGHT
END:VTIMEZONE
END:VCALENDAR