BEGIN:VCALENDAR
VERSION:2.0
PRODID:-//wp-events-plugin.com//7.2.3.1//EN
TZID:America/Los_Angeles
X-WR-TIMEZONE:America/Los_Angeles
BEGIN:VEVENT
UID:3001314@anandaportland.org
DTSTART;TZID=America/Los_Angeles:20240614T190000
DTEND;TZID=America/Los_Angeles:20240614T203000
DTSTAMP:20240530T195106Z
URL:https://anandaportland.org/events/kirtan-in-the-community/
SUMMARY:Kirtan in the Community
DESCRIPTION:Our monthly kirtans continue outside at the community during th
 e summer.\n\n\n\nGuests Naryayani and Shurjo\, from Ananda Mumbai\, will b
 e joining us for this month's kirtan.\n\nThese are free events and open to
  all. Bring a blanket to sit on if you like to sit on the grass\, and enjo
 y the devotion.\n\nBe mindful of the weather and the change in temperature
  as the sun goes down.\n\nMost chants are in English and words are provide
 d. We have brief periods of meditation between chants and at the end of th
 e evening.\n\nWe hope to see you there!
ATTACH;FMTTYPE=image/jpeg:https://anandaportland.org/wp-content/uploads/20
 23/06/IMG_20230616_192647-scaled.jpg
CATEGORIES:Community,Devotional Event,Family
 Friendly,Kirtan/Chanting,music
LOCATION:Portland Community\, 7020 SW Vermont Court\, Portland\, OR\, 97223
 \, United States
X-APPLE-STRUCTURED-LOCATION;VALUE=URI;X-ADDRESS=7020 SW Vermont Court\, Por
 tland\, OR\, 97223\, United States;X-APPLE-RADIUS=100;X-TITLE=Portland Com
 munity:geo:0,0
END:VEVENT
BEGIN:VTIMEZONE
TZID:America/Los_Angeles
X-LIC-LOCATION:America/Los_Angeles
BEGIN:DAYLIGHT
DTSTART:20240310T030000
TZOFFSETFROM:-0800
TZOFFSETTO:-0700
TZNAME:PDT
END:DAYLIGHT
END:VTIMEZONE
END:VCALENDAR