BEGIN:VCALENDAR
VERSION:2.0
PRODID:-//wp-events-plugin.com//7.2.3.1//EN
TZID:America/Los_Angeles
X-WR-TIMEZONE:America/Los_Angeles
BEGIN:VEVENT
UID:3002171@anandaportland.org
DTSTART;TZID=America/Los_Angeles:20250207T190000
DTEND;TZID=America/Los_Angeles:20250207T203000
DTSTAMP:20250201T230712Z
URL:https://anandaportland.org/events/kirtan-in-the-temple-2/
SUMMARY:"Deeper Dive" Kirtan in the Temple
DESCRIPTION:Our kirtan tonight will be focused on Paramhansa Yogananda's Co
 smic Chants. These chants will take you closer to Yogananda and his livin
 g presence. Come with an open heart and invite Yogananda in with each chan
 t.\n\n**************************************************\n\nKirtan is a sh
 ared time of devotional chanting\, with short periods of meditation. Chant
 ing is a spiritual practice that opens the heart and allows for an experie
 nce of deep inner stillness and connection with the divine presence within
 .\n\nNo experience necessary!  We will share the words to the chants\, wh
 ich are usually in English and occasionally in Sanskrit. Our musicians use
  harmoniums\, guitars and a harp.\n\nPlease come and join us for our month
 ly kirtans. All are welcome.\n\nUpcoming dates: March 14\n\nThis is a free
  event.\n\n&nbsp\;\n\n&nbsp\;\n\n&nbsp\;\n\n&nbsp\;
ATTACH;FMTTYPE=image/jpeg:https://anandaportland.org/wp-content/uploads/20
 24/12/master_holding_an_esraj_and_smiling___darker__low_res-420x420-1.jpg
CATEGORIES:Kirtan/Chanting
LOCATION:Ananda Temple in Beaverton\, 4855 SW Watson Avenue\, Beaverton\, O
 regon\, 97005\, United States
X-APPLE-STRUCTURED-LOCATION;VALUE=URI;X-ADDRESS=4855 SW Watson Avenue\, Bea
 verton\, Oregon\, 97005\, United States;X-APPLE-RADIUS=100;X-TITLE=Ananda 
 Temple in Beaverton:geo:0,0
END:VEVENT
BEGIN:VTIMEZONE
TZID:America/Los_Angeles
X-LIC-LOCATION:America/Los_Angeles
BEGIN:STANDARD
DTSTART:20241103T010000
TZOFFSETFROM:-0700
TZOFFSETTO:-0800
TZNAME:PST
END:STANDARD
END:VTIMEZONE
END:VCALENDAR