BEGIN:VCALENDAR
VERSION:2.0
PRODID:-//wp-events-plugin.com//7.2.3.1//EN
TZID:America/Los_Angeles
X-WR-TIMEZONE:America/Los_Angeles
BEGIN:VEVENT
UID:3002170@anandaportland.org
DTSTART;TZID=America/Los_Angeles:20250117T190000
DTEND;TZID=America/Los_Angeles:20250117T203000
DTSTAMP:20250108T034425Z
URL:https://anandaportland.org/events/kirtan-in-the-temple/
SUMMARY:Kirtan in the Temple
DESCRIPTION:Kirtan is a shared time of devotional chanting\, with short per
 iods of meditation. Chanting is a spiritual practice that opens the heart 
 and allows for an experience of deep inner stillness and connection with t
 he divine presence within.\n\nNo experience necessary!  We will share the
  words to the chants\, which are usually in English and occasionally in Sa
 nskrit. Our musicians use harmoniums\, guitars and a harp.\n\nPlease come 
 and join us for our monthly kirtans. All are welcome.\n\nUpcoming dates: F
 ebruary 14 and March 14\n\nThis is a free event.\n\n&nbsp\;\n\n&nbsp\;\n\n
 &nbsp\;\n\n&nbsp\;
ATTACH;FMTTYPE=image/jpeg:https://anandaportland.org/wp-content/uploads/20
 23/11/templekirtan1023-scaled.jpg
CATEGORIES:Kirtan/Chanting
END:VEVENT
BEGIN:VTIMEZONE
TZID:America/Los_Angeles
X-LIC-LOCATION:America/Los_Angeles
BEGIN:STANDARD
DTSTART:20241103T010000
TZOFFSETFROM:-0700
TZOFFSETTO:-0800
TZNAME:PST
END:STANDARD
END:VTIMEZONE
END:VCALENDAR