BEGIN:VCALENDAR
VERSION:2.0
PRODID:-//wp-events-plugin.com//7.2.3.1//EN
TZID:America/Los_Angeles
X-WR-TIMEZONE:America/Los_Angeles
BEGIN:VEVENT
UID:3001224@anandaportland.org
DTSTART;TZID=America/Los_Angeles:20240928T160000
DTEND;TZID=America/Los_Angeles:20240928T190000
DTSTAMP:20240223T215205Z
URL:https://anandaportland.org/events/kriya-initiation-ceremony-with-deval
 ila/
SUMMARY:Kriya Initiation Ceremony with Devalila
DESCRIPTION:For Ananda Kriyabans and Kriya Initiates Only\n\nKriyacharyas:
   Devalila Veenhof and Surendra Conti\n\nSchedule:\n\n4 - 5 PM Meditation
 \n\n5 PM: Front doors are locked\n\n5 - 7 PM: Ceremony\n\nPlease bring a f
 lower\, fruit and offering for the initiation. Wear white\, if possible.\n
 \nIf you have questions\, please call 503-626-3403 or email portland@anand
 aportland.org\n\nPreregistration is required to attend. Please contact por
 tland@anandaportland.org\n\n&nbsp\;\n\nA kriya review for kriyabans will b
 e offered on Sunday 9/29 at 8:30 AM. No registration required. Come to the
  temple and meet in the Inspiration classroom.\n\n&nbsp\;\n\nDevalila Veen
 hof is a kriyacharya and director of the Ananda Worldwide Kriya ministry. 
 Shevlives in Ananda Village in California. We are pleased to have her in P
 ortland for this initiation.\n\n\n\n&nbsp\;\n\n&nbsp\;\n\n&nbsp\;\n\n&nbsp
 \;\n\n&nbsp\;\n\n&nbsp\;\n\n&nbsp\;\n\nSurendra Conti is a Kriyacharya and
  lightbearer who lives and serves in the Ananda Portland Sangha.\n\n\n\n&n
 bsp\;\n\n&nbsp\;\n\n&nbsp\;\n\n&nbsp\;\n\n&nbsp\;\n\n&nbsp\;\n\n&nbsp\;\n\
 n&nbsp\;\n\n&nbsp\;\n\n&nbsp\;
ATTACH;FMTTYPE=image/jpeg:https://anandaportland.org/wp-content/uploads/20
 20/02/lahiri___retouched__straight_head-275x400-1.jpg
CATEGORIES:Devotional Event,Kriya
LOCATION:Ananda Portland Temple\, 4855 SW Watson Ave\, Beaverton\, OR\, 970
 05\, United States
X-APPLE-STRUCTURED-LOCATION;VALUE=URI;X-ADDRESS=4855 SW Watson Ave\, Beaver
 ton\, OR\, 97005\, United States;X-APPLE-RADIUS=100;X-TITLE=Ananda Portlan
 d Temple:geo:0,0
END:VEVENT
BEGIN:VTIMEZONE
TZID:America/Los_Angeles
X-LIC-LOCATION:America/Los_Angeles
BEGIN:DAYLIGHT
DTSTART:20240310T030000
TZOFFSETFROM:-0800
TZOFFSETTO:-0700
TZNAME:PDT
END:DAYLIGHT
END:VTIMEZONE
END:VCALENDAR