BEGIN:VCALENDAR
VERSION:2.0
PRODID:-//wp-events-plugin.com//7.2.3.1//EN
TZID:America/Los_Angeles
X-WR-TIMEZONE:America/Los_Angeles
BEGIN:VEVENT
UID:3001447@anandaportland.org
DTSTART;TZID=America/Los_Angeles:20240724T190000
DTEND;TZID=America/Los_Angeles:20240724T200000
DTSTAMP:20240612T234723Z
URL:https://anandaportland.org/events/learn-to-meditate-i-concentration-7-
 2024-07-24/
SUMMARY:Learn to Meditate I: Concentration
DESCRIPTION:This 3 week series of 1 hour classes will give you what you nee
 d to embark on your meditation journey. The content will include:\n\n 	Sev
 eral relaxation and pranayam techniques for the body\n 	Ancient yogic tech
 niques for focusing the mind.\n 	Practices for opening the heart and expan
 ding awareness.\n 	Universal tools for making spiritual progress now.\n\nT
 his is the first step on the path of Kriya Yoga as taught by Paramhansa Yo
 gananda.\n\n$25 for all three classes with an experienced meditator and di
 sciple of Yogananda.\n\n*If you are not able to register for the class bel
 ow\, please call us and let us know you are interested.  503-626-3403
ATTACH;FMTTYPE=image/jpeg:https://anandaportland.org/wp-content/uploads/20
 20/07/Group-Meditations.jpg
CATEGORIES:Classes,Meditation
LOCATION:Ananda Portland Temple\, 4855 SW Watson Ave\, Beaverton\, OR\, 970
 05\, United States
X-APPLE-STRUCTURED-LOCATION;VALUE=URI;X-ADDRESS=4855 SW Watson Ave\, Beaver
 ton\, OR\, 97005\, United States;X-APPLE-RADIUS=100;X-TITLE=Ananda Portlan
 d Temple:geo:0,0
END:VEVENT
BEGIN:VTIMEZONE
TZID:America/Los_Angeles
X-LIC-LOCATION:America/Los_Angeles
BEGIN:DAYLIGHT
DTSTART:20240310T030000
TZOFFSETFROM:-0800
TZOFFSETTO:-0700
TZNAME:PDT
END:DAYLIGHT
END:VTIMEZONE
END:VCALENDAR