BEGIN:VCALENDAR
VERSION:2.0
PRODID:-//wp-events-plugin.com//7.2.3.1//EN
TZID:America/Los_Angeles
X-WR-TIMEZONE:America/Los_Angeles
BEGIN:VEVENT
UID:3002475@anandaportland.org
DTSTART;TZID=America/Los_Angeles:20250307T190000
DTEND;TZID=America/Los_Angeles:20250307T200000
DTSTAMP:20250222T225258Z
URL:https://anandaportland.org/events/mahasamadhi-celebration/
SUMMARY:Mahasamadhi Celebration
DESCRIPTION:This evening's celebration marks the Mahasamadhi\, or conscious
  exit from the body\, of Paramhansa Yogananda and Swami Sri Yukteswar.\n\n
 When a master leaves the physical world\, he leaves a spiritual imprint th
 at lasts forever and blesses all souls. These are holy occasions\; providi
 ng deep opportunities for those who tune into the power of the great souls
  who come to guide us to our divine home.\n\nWe will chant and meditate to
 gether\, share stories and music and offer our devotion.  All are welcome
 .\n\nFREE\, with an opportunity to make a donation if you feel to.\n\n&nbs
 p\;\n\n&nbsp\;
ATTACH;FMTTYPE=image/jpeg:https://anandaportland.org/wp-content/uploads/20
 22/02/master_with_yukteswar__calcutta__1935-2-e1771975914882.jpg
CATEGORIES:Devotional Event
LOCATION:Ananda Temple in Beaverton\, 4855 SW Watson Avenue\, Beaverton\, O
 regon\, 97005\, United States
X-APPLE-STRUCTURED-LOCATION;VALUE=URI;X-ADDRESS=4855 SW Watson Avenue\, Bea
 verton\, Oregon\, 97005\, United States;X-APPLE-RADIUS=100;X-TITLE=Ananda 
 Temple in Beaverton:geo:0,0
END:VEVENT
BEGIN:VTIMEZONE
TZID:America/Los_Angeles
X-LIC-LOCATION:America/Los_Angeles
BEGIN:STANDARD
DTSTART:20241103T010000
TZOFFSETFROM:-0700
TZOFFSETTO:-0800
TZNAME:PST
END:STANDARD
END:VTIMEZONE
END:VCALENDAR