BEGIN:VCALENDAR
VERSION:2.0
PRODID:-//wp-events-plugin.com//7.2.3.1//EN
TZID:America/Los_Angeles
X-WR-TIMEZONE:America/Los_Angeles
BEGIN:VEVENT
UID:3001220@anandaportland.org
DTSTART;TZID=America/Los_Angeles:20240308T190000
DTEND;TZID=America/Los_Angeles:20240308T203000
DTSTAMP:20240223T023012Z
URL:https://anandaportland.org/events/mahasamadhi-of-sri-yukteswar-and-par
 amhansa-yogananda/
SUMMARY:Mahasamadhi of Sri Yukteswar and Paramhansa Yogananda
DESCRIPTION:"Mahasamadhi" means the great samadhi\, or conscious exit from 
 the physical body that marks the end of an avatar's incarnation.\n\nSwami 
 Sri Yukteswar left his body on March 9\, 1936 and Paramhansa Yogananda lef
 t his body on March 7\, 1952. Tonight we celebrate and remember these two 
 great avatars with readings\, music\, chanting\, meditation and devotion.\
 n\nAll are welcome to join us as we tune into the infinite consciousness o
 f these free souls who changed the world and are drawing all sincere seeke
 rs back to union with the divine.\n\n&nbsp\;
ATTACH;FMTTYPE=image/jpeg:https://anandaportland.org/wp-content/uploads/20
 24/02/Mahasamadhi-SY-PY.jpg
CATEGORIES:Devotional Event
LOCATION:Ananda Portland Temple\, 4855 SW Watson Ave\, Beaverton\, OR\, 970
 05\, United States
X-APPLE-STRUCTURED-LOCATION;VALUE=URI;X-ADDRESS=4855 SW Watson Ave\, Beaver
 ton\, OR\, 97005\, United States;X-APPLE-RADIUS=100;X-TITLE=Ananda Portlan
 d Temple:geo:0,0
END:VEVENT
BEGIN:VTIMEZONE
TZID:America/Los_Angeles
X-LIC-LOCATION:America/Los_Angeles
BEGIN:STANDARD
DTSTART:20231105T010000
TZOFFSETFROM:-0700
TZOFFSETTO:-0800
TZNAME:PST
END:STANDARD
END:VTIMEZONE
END:VCALENDAR