BEGIN:VCALENDAR
VERSION:2.0
PRODID:-//wp-events-plugin.com//7.2.3.1//EN
TZID:America/Los_Angeles
X-WR-TIMEZONE:America/Los_Angeles
BEGIN:VEVENT
UID:3000990@anandaportland.org
DTSTART;TZID=America/Los_Angeles:20250120T190000
DTEND;TZID=America/Los_Angeles:20250120T203000
DTSTAMP:20250109T192647Z
URL:https://anandaportland.org/events/martin-luther-king-commemoration-eve
 nt/
SUMMARY:Martin Luther King Memorial Event
DESCRIPTION:Join us for this evening of tribute to Dr. Martin Luther King J
 r. and the spirit of ahimsa he lived.  His saintly influence will be felt
  for generations to come.\n\nWe look forward to having you with us as we r
 emember this great soul. There will be meditation\, readings\, choir songs
 \, audience sing-alongs\, recorded excerpts from celebrated MLK speeches\,
  and old news footage of some of his famous marches.\n\nThis event will be
  FREE. Donations are always welcome.\n\n&nbsp\;\n\n&nbsp\;\n\n&nbsp\;
ATTACH;FMTTYPE=image/jpeg:https://anandaportland.org/wp-content/uploads/20
 23/11/mlk.620.portrait.jpg
CATEGORIES:Community,music,Service &amp; Satsangs
LOCATION:Ananda Temple and Teaching Center\, 4855 SW Watson Ave\, Beaverton
 \, OR\, 97005\, United States
X-APPLE-STRUCTURED-LOCATION;VALUE=URI;X-ADDRESS=4855 SW Watson Ave\, Beaver
 ton\, OR\, 97005\, United States;X-APPLE-RADIUS=100;X-TITLE=Ananda Temple 
 and Teaching Center:geo:0,0
END:VEVENT
BEGIN:VTIMEZONE
TZID:America/Los_Angeles
X-LIC-LOCATION:America/Los_Angeles
BEGIN:STANDARD
DTSTART:20241103T010000
TZOFFSETFROM:-0700
TZOFFSETTO:-0800
TZNAME:PST
END:STANDARD
END:VTIMEZONE
END:VCALENDAR