BEGIN:VCALENDAR
VERSION:2.0
PRODID:-//wp-events-plugin.com//7.2.3.1//EN
TZID:America/Los_Angeles
X-WR-TIMEZONE:America/Los_Angeles
BEGIN:VEVENT
UID:3001623@anandaportland.org
DTSTART;TZID=America/Los_Angeles;VALUE=DATE:20250221
DTEND;TZID=America/Los_Angeles;VALUE=DATE:20250224
DTSTAMP:20241223T170738Z
URL:https://anandaportland.org/events/mens-retreat/
SUMMARY:Men's Retreat
DESCRIPTION:This annual Ananda Portland men's retreat is a wonderful opport
 unity for devotees of Paramhansa Yogananda to spend time together in medit
 ation\, relaxation\, devotion and satsang.\n\n\n\nThe retreat will take pl
 ace in the greater Portland area and may include cooking together\, hiking
 \, music and more. Further details about the location will be coming soon.
 \n\nThis men's retreat will be led by Badri Matlock\, c0-spiritual directo
 r of Ananda Portland.\n\n&nbsp\;\n\n&nbsp\;
ATTACH;FMTTYPE=image/jpeg:https://anandaportland.org/wp-content/uploads/20
 22/11/JoySymbolLogoBlue_2in.png
CATEGORIES:Retreat
END:VEVENT
BEGIN:VTIMEZONE
TZID:America/Los_Angeles
X-LIC-LOCATION:America/Los_Angeles
BEGIN:STANDARD
DTSTART:20241103T010000
TZOFFSETFROM:-0700
TZOFFSETTO:-0800
TZNAME:PST
END:STANDARD
END:VTIMEZONE
END:VCALENDAR