BEGIN:VCALENDAR
VERSION:2.0
PRODID:-//wp-events-plugin.com//7.2.3.1//EN
TZID:America/Los_Angeles
X-WR-TIMEZONE:America/Los_Angeles
BEGIN:VEVENT
UID:6004831@anandaportland.org
DTSTART;TZID=America/Los_Angeles:20260510T090000
DTEND;TZID=America/Los_Angeles:20260510T113000
DTSTAMP:20260116T215537Z
URL:https://anandaportland.org/events/mothers-day-sunday-service/
SUMMARY:Mother's Day Sunday Service
DESCRIPTION:Join us for a special Mother's Day Sunday Service. It is an opp
 ortunity to celebrate our one Divine Mother and the endless blessings of b
 eing Her divine children.\n\nToday is also the anniversary of the birth of
  the great master\, Sri Yukteswar.  Yukteswar was the guru of Paramhansa 
 Yogananda and an incarnation of Divine Wisdom.\n\nDivine Love and Divine W
 isdom: a sacred combination of divine attributes that help us awaken to ou
 r highest potential.\n\nSunday School for children 4 - 12 years will happe
 n during the 10 AM service.\n\nStay for our vegetarian potluck lunch after
  service!\n\n&nbsp\;
ATTACH;FMTTYPE=image/jpeg:https://anandaportland.org/wp-content/uploads/20
 21/12/Mother2smaller-scaled.jpg
LOCATION:Ananda Portland Temple\, 4855 SW Watson Ave\, Beaverton\, OR\, 970
 05\, United States
X-APPLE-STRUCTURED-LOCATION;VALUE=URI;X-ADDRESS=4855 SW Watson Ave\, Beaver
 ton\, OR\, 97005\, United States;X-APPLE-RADIUS=100;X-TITLE=Ananda Portlan
 d Temple:geo:0,0
END:VEVENT
BEGIN:VTIMEZONE
TZID:America/Los_Angeles
X-LIC-LOCATION:America/Los_Angeles
BEGIN:DAYLIGHT
DTSTART:20260308T030000
TZOFFSETFROM:-0800
TZOFFSETTO:-0700
TZNAME:PDT
END:DAYLIGHT
END:VTIMEZONE
END:VCALENDAR