BEGIN:VCALENDAR
VERSION:2.0
PRODID:-//wp-events-plugin.com//7.2.3.1//EN
TZID:America/Los_Angeles
X-WR-TIMEZONE:America/Los_Angeles
BEGIN:VEVENT
UID:3001424@anandaportland.org
DTSTART;TZID=America/Los_Angeles:20240615T190000
DTEND;TZID=America/Los_Angeles:20240615T200000
DTSTAMP:20240606T191200Z
URL:https://anandaportland.org/events/my-heart-remembers-swami-kriyananda-
 satsang-with-tyagi-shurjo-and-tyagi-narayani/
SUMMARY:My Heart Remembers Swami Kriyananda: Satsang with Shurjo and Naraya
 ni
DESCRIPTION:Narayani and Shurjo will share their experiences of being close
  companions of Swami Kriyananda during the last years of his life\, and ho
 w they continue to be guided and blessed by his presence today.\n\nThese g
 reat souls are part of the leadership of Ananda Worldwide and spend their 
 days sharing the teachings of Yogananda and Kriyananda with all. They are 
 bright and vibrant teachers\, loving friends\, and they radiate divine joy
 .\n\nThis evening will be an inspiring discussion\, with an opportunity fo
 r Q &amp\; A with Narayani and Shurjo.\n\nAll are welcome - FREE\n\n&nbsp\
 ;\n\n&nbsp\;
ATTACH;FMTTYPE=image/jpeg:https://anandaportland.org/wp-content/uploads/20
 24/04/surjo-narayani-1-350x337-1.jpg
CATEGORIES:Classes,Guest Speakers
LOCATION:Ananda Temple in Beaverton\, 4855 SW Watson Avenue\, Beaverton\, O
 regon\, 97005\, United States
X-APPLE-STRUCTURED-LOCATION;VALUE=URI;X-ADDRESS=4855 SW Watson Avenue\, Bea
 verton\, Oregon\, 97005\, United States;X-APPLE-RADIUS=100;X-TITLE=Ananda 
 Temple in Beaverton:geo:0,0
END:VEVENT
BEGIN:VTIMEZONE
TZID:America/Los_Angeles
X-LIC-LOCATION:America/Los_Angeles
BEGIN:DAYLIGHT
DTSTART:20240310T030000
TZOFFSETFROM:-0800
TZOFFSETTO:-0700
TZNAME:PDT
END:DAYLIGHT
END:VTIMEZONE
END:VCALENDAR