BEGIN:VCALENDAR
VERSION:2.0
PRODID:-//wp-events-plugin.com//7.2.3.1//EN
TZID:America/Los_Angeles
X-WR-TIMEZONE:America/Los_Angeles
BEGIN:VEVENT
UID:4002561@anandaportland.org
DTSTART;TZID=America/Los_Angeles:20250406T190000
DTEND;TZID=America/Los_Angeles:20250406T200000
DTSTAMP:20250330T011929Z
URL:https://anandaportland.org/events/qa-about-going-on-pilgrimage-to-indi
 a-with-badri-and-murali/
SUMMARY:Q&A about Pilgrimage to India with Badri and Murali
DESCRIPTION:Sun\, April 6 | 7-8pm | Living Joy Center or on zoom:\n\nhttps:
 //us06web.zoom.us/j/82277433448?pwd=4fOiAI73ErlJWRgmylh8am978ymnQu.1\n\n\n
 \nJoin Badri and Murali to learn more about this incredible Yogananda Indi
 a Pilgrimage. They will share about their experiences visiting these holy 
 places and answer your questions. Are you ready for the experience of a li
 fetime?
END:VEVENT
BEGIN:VTIMEZONE
TZID:America/Los_Angeles
X-LIC-LOCATION:America/Los_Angeles
BEGIN:DAYLIGHT
DTSTART:20250309T030000
TZOFFSETFROM:-0800
TZOFFSETTO:-0700
TZNAME:PDT
END:DAYLIGHT
END:VTIMEZONE
END:VCALENDAR