BEGIN:VCALENDAR
VERSION:2.0
PRODID:-//wp-events-plugin.com//7.2.3.1//EN
TZID:America/Los_Angeles
X-WR-TIMEZONE:America/Los_Angeles
BEGIN:VEVENT
UID:6004941@anandaportland.org
DTSTART;TZID=America/Los_Angeles:20260606T190000
DTEND;TZID=America/Los_Angeles:20260606T203000
DTSTAMP:20260306T224809Z
URL:https://anandaportland.org/events/qa-satsang-with-jyotish-and-devi/
SUMMARY:Q&A Satsang with Jyotish and Devi
DESCRIPTION:Join us for a special evening of inspiration with Nayaswami Jyo
 tish and Nayaswami Devi\, spiritual directors of Ananda Worldwide\, gifted
  spiritual teachers\, divine friends and guides to thousands of devotees a
 round the world.\n\nWe are so fortunate and grateful to have them with us 
 for this weekend\, and our Saturday night event will be a relaxed Question
 s &amp\; Answers satsang full of inspiration\, humor\, deep wisdom and lov
 e.\n\nPlease register for this FREE event so we can best accommodate every
 one. We will devise a simple online format to submit questions in advance\
 , and live questions can be asked as well.\n\n
END:VEVENT
BEGIN:VTIMEZONE
TZID:America/Los_Angeles
X-LIC-LOCATION:America/Los_Angeles
BEGIN:DAYLIGHT
DTSTART:20260308T030000
TZOFFSETFROM:-0800
TZOFFSETTO:-0700
TZNAME:PDT
END:DAYLIGHT
END:VTIMEZONE
END:VCALENDAR