BEGIN:VCALENDAR
VERSION:2.0
PRODID:-//wp-events-plugin.com//7.2.3.1//EN
TZID:America/Los_Angeles
X-WR-TIMEZONE:America/Los_Angeles
BEGIN:VEVENT
UID:3001509@anandaportland.org
DTSTART;TZID=America/Los_Angeles:20240920T183000
DTEND;TZID=America/Los_Angeles:20240920T203000
DTSTAMP:20240813T023817Z
URL:https://anandaportland.org/events/restorative-yoga-with-janice/
SUMMARY:Autumn Equinox Retreat\; Restorative Yoga for Inner Communion
DESCRIPTION:The Autumn Equinox is a time for balance\, reflection and resto
 ration.  Take this time to go within\, be still\, and heal. Our evening w
 ill include music for inner communion and an extended Deep Relaxation with
  live harp accompaniment.\n\n \nRestorative Yoga is a calm and gentle sty
 le of yoga that utilizes props (blankets\, bolsters\, blocks\, and straps)
 . Each pose is held for 5-10 minutes to help you relax\, still your mind\,
  release layers of physical tension\, and increase overall wellness.\nInst
 ructor: Janice Fairlee\nCertified Restorative Ananda Yoga\nAvid Chanter &a
 mp\; Harp Player\n*Due to prop availability\, we will limit the participan
 ts to 10 people.\nRegister below. Sliding scale fee $20 - $30
ATTACH;FMTTYPE=image/jpeg:https://anandaportland.org/wp-content/uploads/20
 22/06/thumbnail_JM-restorative.jpg
CATEGORIES:Classes,Yoga
LOCATION:Ananda Temple in Beaverton\, 4855 SW Watson Avenue\, Beaverton\, O
 regon\, 97005\, United States
X-APPLE-STRUCTURED-LOCATION;VALUE=URI;X-ADDRESS=4855 SW Watson Avenue\, Bea
 verton\, Oregon\, 97005\, United States;X-APPLE-RADIUS=100;X-TITLE=Ananda 
 Temple in Beaverton:geo:0,0
END:VEVENT
BEGIN:VTIMEZONE
TZID:America/Los_Angeles
X-LIC-LOCATION:America/Los_Angeles
BEGIN:DAYLIGHT
DTSTART:20240310T030000
TZOFFSETFROM:-0800
TZOFFSETTO:-0700
TZNAME:PDT
END:DAYLIGHT
END:VTIMEZONE
END:VCALENDAR