BEGIN:VCALENDAR
VERSION:2.0
PRODID:-//wp-events-plugin.com//7.2.3.1//EN
TZID:America/Los_Angeles
X-WR-TIMEZONE:America/Los_Angeles
BEGIN:VEVENT
UID:3002491@anandaportland.org
DTSTART;TZID=America/Los_Angeles:20250322T190000
DTEND;TZID=America/Los_Angeles:20250322T200000
DTSTAMP:20250312T214113Z
URL:https://anandaportland.org/events/satsang-with-nayaswami-pranaba-and-n
 ayaswami-parvati/
SUMMARY:Satsang with Nayaswami Pranaba and Nayaswami Parvati
DESCRIPTION:This evening we will have an informal satsang with Nayaswami Pr
 anaba and Nayaswami Parvati. They will talk about Parvati's book\, "Say Ye
 s to Life!" and their years with Swami Kriyananda as founding members of A
 nanda.\n\n&nbsp\;\n\n\n\nParvati and Pranaba spent years in Portland and t
 hey love the opportunity to be back here. They are looking forward to bein
 g with old friends and making new friends in Portland.\n\nThis is a FREE e
 vent.
ATTACH;FMTTYPE=image/jpeg:https://anandaportland.org/wp-content/uploads/20
 20/09/Pranaba-and-Parvati.jpg
LOCATION:Ananda Portland Temple\, 4855 SW Watson Ave\, Beaverton\, OR\, 970
 05\, United States
X-APPLE-STRUCTURED-LOCATION;VALUE=URI;X-ADDRESS=4855 SW Watson Ave\, Beaver
 ton\, OR\, 97005\, United States;X-APPLE-RADIUS=100;X-TITLE=Ananda Portlan
 d Temple:geo:0,0
END:VEVENT
BEGIN:VTIMEZONE
TZID:America/Los_Angeles
X-LIC-LOCATION:America/Los_Angeles
BEGIN:DAYLIGHT
DTSTART:20250309T030000
TZOFFSETFROM:-0800
TZOFFSETTO:-0700
TZNAME:PDT
END:DAYLIGHT
END:VTIMEZONE
END:VCALENDAR